OziExplorer Map Data File Version 2.2
F22B-Londrina.png
sf22-3.png
1 ,Map Code,
Pulkovo 1942 (1),, 0.0000, 0.0000,WGS 84
Reserved 1
Reserved 2
Magnetic Variation,,,E
Map Projection,Latitude/Longitude,PolyCal,Yes,AutoCalOnly,No,BSBUseWPX,No
Point01,xy, 71, 109,in, deg, 22, 0.0000,S, 54, 0.0000,W, grid, , , ,
Point02,xy, 1898, 115,in, deg, 22, 0.0000,S, 52, 30.0000,W, grid, , , ,
Point03,xy, 3726, 132,in, deg, 22, 0.0000,S, 51, 0.0000,W, grid, , , ,
Point04,xy, 77, 1416,in, deg, 23, 0.0000,S, 54, 0.0000,W, grid, , , ,
Point05,xy, 1893, 1421,in, deg, 23, 0.0000,S, 52, 30.0000,W, grid, , , ,
Point06,xy, 3708, 1439,in, deg, 23, 0.0000,S, 51, 0.0000,W, grid, , , ,
Point07,xy, 83, 2726,in, deg, 24, 0.0000,S, 54, 0.0000,W, grid, , , ,
Point08,xy, 1885, 2728,in, deg, 24, 0.0000,S, 52, 30.0000,W, grid, , , ,
Point09,xy, 3687, 2746,in, deg, 24, 0.0000,S, 51, 0.0000,W, grid, , , ,
Point10,xy, , ,in, deg, , ,, , ,, grid, , , ,
Point11,xy, , ,in, deg, , ,, , ,, grid, , , ,
Point12,xy, , ,in, deg, , ,, , ,, grid, , , ,
Point13,xy, , ,in, deg, , ,, , ,, grid, , , ,
Point14,xy, , ,in, deg, , ,, , ,, grid, , , ,
Point15,xy, , ,in, deg, , ,, , ,, grid, , , ,
Point16,xy, , ,in, deg, , ,, , ,, grid, , , ,
Point17,xy, , ,in, deg, , ,, , ,, grid, , , ,
Point18,xy, , ,in, deg, , ,, , ,, grid, , , ,
Point19,xy, , ,in, deg, , ,, , ,, grid, , , ,
Point20,xy, , ,in, deg, , ,, , ,, grid, , , ,
Point21,xy, , ,in, deg, , ,, , ,, grid, , , ,
Point22,xy, , ,in, deg, , ,, , ,, grid, , , ,
Point23,xy, , ,in, deg, , ,, , ,, grid, , , ,
Point24,xy, , ,in, deg, , ,, , ,, grid, , , ,
Point25,xy, , ,in, deg, , ,, , ,, grid, , , ,
Point26,xy, , ,in, deg, , ,, , ,, grid, , , ,
Point27,xy, , ,in, deg, , ,, , ,, grid, , , ,
Point28,xy, , ,in, deg, , ,, , ,, grid, , , ,
Point29,xy, , ,in, deg, , ,, , ,, grid, , , ,
Point30,xy, , ,in, deg, , ,, , ,, grid, , , ,
Projection Setup,,,,,,,,,,
Map Feature = MF ; Map Comment = MC These follow if they exist
Track File = TF These follow if they exist
Moving Map Parameters = MM? These follow if they exist
MM0,Yes
MMPNUM,4
MMPXY,1,0,0
MMPXY,2,3843,2
MMPXY,3,3794,3111
MMPXY,4,0,3089
MMPLL,1, -54.057333, -21.916425
MMPLL,2, -50.905555, -21.898674
MMPLL,3, -50.905947, -24.278038
MMPLL,4, -54.069889, -24.277586
MM1B,84.632478
MOP,Map Open Position,0,0
IWH,Map Image Width/Height,2500,1395
