OziExplorer Map Data File Version 2.2
F22-b-SanJoseDuRiuPretu.png
sf22-2.png
1 ,Map Code,
Pulkovo 1942 (1),, 0.0000, 0.0000,WGS 84
Reserved 1
Reserved 2
Magnetic Variation,,,E
Map Projection,Latitude/Longitude,PolyCal,Yes,AutoCalOnly,No,BSBUseWPX,No
Point01,xy, 76, 102,in, deg, 20, 0.0000,S, 51, 0.0000,W, grid, , , ,
Point02,xy, 1932, 105,in, deg, 20, 0.0000,S, 49, 30.0000,W, grid, , , ,
Point03,xy, 3790, 115,in, deg, 20, 0.0000,S, 48, 0.0000,W, grid, , , ,
Point04,xy, 86, 1411,in, deg, 21, 0.0000,S, 51, 0.0000,W, grid, , , ,
Point05,xy, 1931, 1412,in, deg, 21, 0.0000,S, 49, 30.0000,W, grid, , , ,
Point06,xy, 3777, 1422,in, deg, 21, 0.0000,S, 48, 0.0000,W, grid, , , ,
Point07,xy, 96, 2718,in, deg, 22, 0.0000,S, 51, 0.0000,W, grid, , , ,
Point08,xy, 1930, 2718,in, deg, 22, 0.0000,S, 49, 30.0000,W, grid, , , ,
Point09,xy, 3762, 2732,in, deg, 22, 0.0000,S, 48, 0.0000,W, grid, , , ,
Point10,xy, , ,in, deg, , ,, , ,, grid, , , ,
Point11,xy, , ,in, deg, , ,, , ,, grid, , , ,
Point12,xy, , ,in, deg, , ,, , ,, grid, , , ,
Point13,xy, , ,in, deg, , ,, , ,, grid, , , ,
Point14,xy, , ,in, deg, , ,, , ,, grid, , , ,
Point15,xy, , ,in, deg, , ,, , ,, grid, , , ,
Point16,xy, , ,in, deg, , ,, , ,, grid, , , ,
Point17,xy, , ,in, deg, , ,, , ,, grid, , , ,
Point18,xy, , ,in, deg, , ,, , ,, grid, , , ,
Point19,xy, , ,in, deg, , ,, , ,, grid, , , ,
Point20,xy, , ,in, deg, , ,, , ,, grid, , , ,
Point21,xy, , ,in, deg, , ,, , ,, grid, , , ,
Point22,xy, , ,in, deg, , ,, , ,, grid, , , ,
Point23,xy, , ,in, deg, , ,, , ,, grid, , , ,
Point24,xy, , ,in, deg, , ,, , ,, grid, , , ,
Point25,xy, , ,in, deg, , ,, , ,, grid, , , ,
Point26,xy, , ,in, deg, , ,, , ,, grid, , , ,
Point27,xy, , ,in, deg, , ,, , ,, grid, , , ,
Point28,xy, , ,in, deg, , ,, , ,, grid, , , ,
Point29,xy, , ,in, deg, , ,, , ,, grid, , , ,
Point30,xy, , ,in, deg, , ,, , ,, grid, , , ,
Projection Setup,,,,,,,,,,
Map Feature = MF ; Map Comment = MC These follow if they exist
Track File = TF These follow if they exist
Moving Map Parameters = MM? These follow if they exist
MM0,Yes
MMPNUM,4
MMPXY,1,0,0
MMPXY,2,3892,0
MMPXY,3,3858,3084
MMPXY,4,0,3070
MMPLL,1, -51.060303, -19.921155
MMPLL,2, -47.918517, -19.911332
MMPLL,3, -47.918596, -22.269256
MMPLL,4, -51.081002, -22.269275
MM1B,84.501646
MOP,Map Open Position,0,0
IWH,Map Image Width/Height,2500,1395
