OziExplorer Map Data File Version 2.2
F22A-Andradina.png
sf22-1.png
1 ,Map Code,
Pulkovo 1942 (1),, 0.0000, 0.0000,WGS 84
Reserved 1
Reserved 2
Magnetic Variation,,,E
Map Projection,Latitude/Longitude,PolyCal,Yes,AutoCalOnly,No,BSBUseWPX,No
Point01,xy, 61, 115,in, deg, 20, 0.0000,S, 54, 0.0000,W, grid, , , ,
Point02,xy, 1920, 115,in, deg, 20, 0.0000,S, 52, 30.0000,W, grid, , , ,
Point03,xy, 3776, 123,in, deg, 20, 0.0000,S, 51, 0.0000,W, grid, , , ,
Point04,xy, 74, 1423,in, deg, 21, 0.0000,S, 54, 0.0000,W, grid, , , ,
Point05,xy, 1927, 1420,in, deg, 21, 0.0000,S, 52, 30.0000,W, grid, , , ,
Point06,xy, 3765, 1432,in, deg, 21, 0.0000,S, 51, 0.0000,W, grid, , , ,
Point07,xy, 85, 2732,in, deg, 22, 0.0000,S, 54, 0.0000,W, grid, , , ,
Point08,xy, 1919, 2726,in, deg, 22, 0.0000,S, 52, 30.0000,W, grid, , , ,
Point09,xy, 3753, 2737,in, deg, 22, 0.0000,S, 51, 0.0000,W, grid, , , ,
Point10,xy, , ,in, deg, , ,, , ,, grid, , , ,
Point11,xy, , ,in, deg, , ,, , ,, grid, , , ,
Point12,xy, , ,in, deg, , ,, , ,, grid, , , ,
Point13,xy, , ,in, deg, , ,, , ,, grid, , , ,
Point14,xy, , ,in, deg, , ,, , ,, grid, , , ,
Point15,xy, , ,in, deg, , ,, , ,, grid, , , ,
Point16,xy, , ,in, deg, , ,, , ,, grid, , , ,
Point17,xy, , ,in, deg, , ,, , ,, grid, , , ,
Point18,xy, , ,in, deg, , ,, , ,, grid, , , ,
Point19,xy, , ,in, deg, , ,, , ,, grid, , , ,
Point20,xy, , ,in, deg, , ,, , ,, grid, , , ,
Point21,xy, , ,in, deg, , ,, , ,, grid, , , ,
Point22,xy, , ,in, deg, , ,, , ,, grid, , , ,
Point23,xy, , ,in, deg, , ,, , ,, grid, , , ,
Point24,xy, , ,in, deg, , ,, , ,, grid, , , ,
Point25,xy, , ,in, deg, , ,, , ,, grid, , , ,
Point26,xy, , ,in, deg, , ,, , ,, grid, , , ,
Point27,xy, , ,in, deg, , ,, , ,, grid, , , ,
Point28,xy, , ,in, deg, , ,, , ,, grid, , , ,
Point29,xy, , ,in, deg, , ,, , ,, grid, , , ,
Point30,xy, , ,in, deg, , ,, , ,, grid, , , ,
Projection Setup,,,,,,,,,,
Map Feature = MF ; Map Comment = MC These follow if they exist
Track File = TF These follow if they exist
Moving Map Parameters = MM? These follow if they exist
MM0,Yes
MMPNUM,4
MMPXY,1,0,0
MMPXY,2,3871,2
MMPXY,3,3841,3087
MMPXY,4,0,3081
MMPLL,1, -54.047456, -19.911529
MMPLL,2, -50.923017, -19.905706
MMPLL,3, -50.922684, -22.267599
MMPLL,4, -54.069742, -22.267423
MM1B,84.121079
MOP,Map Open Position,0,0
IWH,Map Image Width/Height,2500,1395
