OziExplorer Map Data File Version 2.2
F21r-PedroChuanKabalero.png
sf21-4.png
1 ,Map Code,
Pulkovo 1942 (1),, 0.0000, 0.0000,WGS 84
Reserved 1
Reserved 2
Magnetic Variation,,,E
Map Projection,Latitude/Longitude,PolyCal,Yes,AutoCalOnly,No,BSBUseWPX,No
Point01,xy, 68, 111,in, deg, 22, 0.0000,S, 57, 0.0000,W, grid, , , ,
Point02,xy, 1903, 108,in, deg, 22, 0.0000,S, 55, 30.0000,W, grid, , , ,
Point03,xy, 3734, 113,in, deg, 22, 0.0000,S, 54, 0.0000,W, grid, , , ,
Point04,xy, 85, 1420,in, deg, 23, 0.0000,S, 57, 0.0000,W, grid, , , ,
Point05,xy, 1906, 1414,in, deg, 23, 0.0000,S, 55, 30.0000,W, grid, , , ,
Point06,xy, 3722, 1422,in, deg, 23, 0.0000,S, 54, 0.0000,W, grid, , , ,
Point07,xy, 102, 2728,in, deg, 24, 0.0000,S, 57, 0.0000,W, grid, , , ,
Point08,xy, 1907, 2718,in, deg, 24, 0.0000,S, 55, 30.0000,W, grid, , , ,
Point09,xy, 3710, 2729,in, deg, 24, 0.0000,S, 54, 0.0000,W, grid, , , ,
Point10,xy, , ,in, deg, , ,, , ,, grid, , , ,
Point11,xy, , ,in, deg, , ,, , ,, grid, , , ,
Point12,xy, , ,in, deg, , ,, , ,, grid, , , ,
Point13,xy, , ,in, deg, , ,, , ,, grid, , , ,
Point14,xy, , ,in, deg, , ,, , ,, grid, , , ,
Point15,xy, , ,in, deg, , ,, , ,, grid, , , ,
Point16,xy, , ,in, deg, , ,, , ,, grid, , , ,
Point17,xy, , ,in, deg, , ,, , ,, grid, , , ,
Point18,xy, , ,in, deg, , ,, , ,, grid, , , ,
Point19,xy, , ,in, deg, , ,, , ,, grid, , , ,
Point20,xy, , ,in, deg, , ,, , ,, grid, , , ,
Point21,xy, , ,in, deg, , ,, , ,, grid, , , ,
Point22,xy, , ,in, deg, , ,, , ,, grid, , , ,
Point23,xy, , ,in, deg, , ,, , ,, grid, , , ,
Point24,xy, , ,in, deg, , ,, , ,, grid, , , ,
Point25,xy, , ,in, deg, , ,, , ,, grid, , , ,
Point26,xy, , ,in, deg, , ,, , ,, grid, , , ,
Point27,xy, , ,in, deg, , ,, , ,, grid, , , ,
Point28,xy, , ,in, deg, , ,, , ,, grid, , , ,
Point29,xy, , ,in, deg, , ,, , ,, grid, , , ,
Point30,xy, , ,in, deg, , ,, , ,, grid, , , ,
Projection Setup,,,,,,,,,,
Map Feature = MF ; Map Comment = MC These follow if they exist
Track File = TF These follow if they exist
Moving Map Parameters = MM? These follow if they exist
MM0,Yes
MMPNUM,4
MMPXY,1,0,0
MMPXY,2,3838,2
MMPXY,3,3807,3069
MMPXY,4,0,3068
MMPLL,1, -57.054312, -21.914097
MMPLL,2, -53.915634, -21.913629
MMPLL,3, -53.915963, -24.260663
MMPLL,4, -57.088067, -24.260705
MM1B,84.290251
MOP,Map Open Position,0,0
IWH,Map Image Width/Height,2500,1395
