OziExplorer Map Data File Version 2.2
F21B-Konsepsjoi.png
sf21-3.png
1 ,Map Code,
Pulkovo 1942 (1),, 0.0000, 0.0000,WGS 84
Reserved 1
Reserved 2
Magnetic Variation,,,E
Map Projection,Latitude/Longitude,PolyCal,Yes,AutoCalOnly,No,BSBUseWPX,No
Point01,xy, 66, 129,in, deg, 22, 0.0000,S, 60, 0.0000,W, grid, , , ,N
Point02,xy, 1897, 120,in, deg, 22, 0.0000,S, 58, 30.0000,W, grid, , , ,N
Point03,xy, 3731, 123,in, deg, 22, 0.0000,S, 57, 0.0000,W, grid, , , ,N
Point04,xy, 87, 1439,in, deg, 23, 0.0000,S, 60, 0.0000,W, grid, , , ,N
Point05,xy, 1903, 1426,in, deg, 23, 0.0000,S, 58, 30.0000,W, grid, , , ,N
Point06,xy, 3720, 1430,in, deg, 23, 0.0000,S, 57, 0.0000,W, grid, , , ,N
Point07,xy, 106, 2745,in, deg, 24, 0.0000,S, 60, 0.0000,W, grid, , , ,N
Point08,xy, 1909, 2734,in, deg, 24, 0.0000,S, 58, 30.0000,W, grid, , , ,N
Point09,xy, 3712, 2736,in, deg, 24, 0.0000,S, 57, 0.0000,W, grid, , , ,N
Point10,xy, , ,in, deg, , ,N, , ,W, grid, , , ,N
Point11,xy, , ,in, deg, , ,N, , ,W, grid, , , ,N
Point12,xy, , ,in, deg, , ,N, , ,W, grid, , , ,N
Point13,xy, , ,in, deg, , ,N, , ,W, grid, , , ,N
Point14,xy, , ,in, deg, , ,N, , ,W, grid, , , ,N
Point15,xy, , ,in, deg, , ,N, , ,W, grid, , , ,N
Point16,xy, , ,in, deg, , ,N, , ,W, grid, , , ,N
Point17,xy, , ,in, deg, , ,N, , ,W, grid, , , ,N
Point18,xy, , ,in, deg, , ,N, , ,W, grid, , , ,N
Point19,xy, , ,in, deg, , ,N, , ,W, grid, , , ,N
Point20,xy, , ,in, deg, , ,N, , ,W, grid, , , ,N
Point21,xy, , ,in, deg, , ,N, , ,W, grid, , , ,N
Point22,xy, , ,in, deg, , ,N, , ,W, grid, , , ,N
Point23,xy, , ,in, deg, , ,N, , ,W, grid, , , ,N
Point24,xy, , ,in, deg, , ,N, , ,W, grid, , , ,N
Point25,xy, , ,in, deg, , ,N, , ,W, grid, , , ,N
Point26,xy, , ,in, deg, , ,N, , ,W, grid, , , ,N
Point27,xy, , ,in, deg, , ,N, , ,W, grid, , , ,N
Point28,xy, , ,in, deg, , ,N, , ,W, grid, , , ,N
Point29,xy, , ,in, deg, , ,N, , ,W, grid, , , ,N
Point30,xy, , ,in, deg, , ,N, , ,W, grid, , , ,N
Projection Setup,,,,,,,,,,
Map Feature = MF ; Map Comment = MC These follow if they exist
Track File = TF These follow if they exist
Moving Map Parameters = MM? These follow if they exist
MM0,Yes
MMPNUM,4
MMPXY,1,0,0
MMPXY,2,3797,0
MMPXY,3,3797,2802
MMPXY,4,0,2810
MMPLL,1, -60.052527, -21.900537
MMPLL,2, -56.946218, -21.905557
MMPLL,3, -56.928758, -24.050276
MMPLL,4, -60.089674, -24.048539
MM1B,84.609455
MOP,Map Open Position,0,0
IWH,Map Image Width/Height,3797,3080
