OziExplorer Map Data File Version 2.2
F21-b-KampuGrandi.png
sf21-2.png
1 ,Map Code,
Pulkovo 1942 (1),, 0.0000, 0.0000,WGS 84
Reserved 1
Reserved 2
Magnetic Variation,,,E
Map Projection,Latitude/Longitude,PolyCal,Yes,AutoCalOnly,No,BSBUseWPX,No
Point01,xy, 61, 127,in, deg, 20, 0.0000,S, 57, 0.0000,W, grid, , , ,
Point02,xy, 1922, 119,in, deg, 20, 0.0000,S, 55, 30.0000,W, grid, , , ,
Point03,xy, 3783, 121,in, deg, 20, 0.0000,S, 54, 0.0000,W, grid, , , ,
Point04,xy, 79, 1437,in, deg, 21, 0.0000,S, 57, 0.0000,W, grid, , , ,
Point05,xy, 1928, 1426,in, deg, 21, 0.0000,S, 55, 30.0000,W, grid, , , ,
Point06,xy, 3777, 1429,in, deg, 21, 0.0000,S, 54, 0.0000,W, grid, , , ,
Point07,xy, 95, 2748,in, deg, 22, 0.0000,S, 57, 0.0000,W, grid, , , ,
Point08,xy, 1931, 2733,in, deg, 22, 0.0000,S, 55, 30.0000,W, grid, , , ,
Point09,xy, 3768, 2736,in, deg, 22, 0.0000,S, 54, 0.0000,W, grid, , , ,
Point10,xy, , ,in, deg, , ,, , ,, grid, , , ,
Point11,xy, , ,in, deg, , ,, , ,, grid, , , ,
Point12,xy, , ,in, deg, , ,, , ,, grid, , , ,
Point13,xy, , ,in, deg, , ,, , ,, grid, , , ,
Point14,xy, , ,in, deg, , ,, , ,, grid, , , ,
Point15,xy, , ,in, deg, , ,, , ,, grid, , , ,
Point16,xy, , ,in, deg, , ,, , ,, grid, , , ,
Point17,xy, , ,in, deg, , ,, , ,, grid, , , ,
Point18,xy, , ,in, deg, , ,, , ,, grid, , , ,
Point19,xy, , ,in, deg, , ,, , ,, grid, , , ,
Point20,xy, , ,in, deg, , ,, , ,, grid, , , ,
Point21,xy, , ,in, deg, , ,, , ,, grid, , , ,
Point22,xy, , ,in, deg, , ,, , ,, grid, , , ,
Point23,xy, , ,in, deg, , ,, , ,, grid, , , ,
Point24,xy, , ,in, deg, , ,, , ,, grid, , , ,
Point25,xy, , ,in, deg, , ,, , ,, grid, , , ,
Point26,xy, , ,in, deg, , ,, , ,, grid, , , ,
Point27,xy, , ,in, deg, , ,, , ,, grid, , , ,
Point28,xy, , ,in, deg, , ,, , ,, grid, , , ,
Point29,xy, , ,in, deg, , ,, , ,, grid, , , ,
Point30,xy, , ,in, deg, , ,, , ,, grid, , , ,
Projection Setup,,,,,,,,,,
Map Feature = MF ; Map Comment = MC These follow if they exist
Track File = TF These follow if they exist
Moving Map Parameters = MM? These follow if they exist
MM0,Yes
MMPNUM,4
MMPXY,1,0,1
MMPXY,2,3871,0
MMPXY,3,3851,3085
MMPXY,4,0,3099
MMPLL,1, -57.047580, -19.903013
MMPLL,2, -53.929603, -19.906354
MMPLL,3, -53.929762, -22.267150
MMPLL,4, -57.080628, -22.267763
MM1B,84.312633
MOP,Map Open Position,0,0
IWH,Map Image Width/Height,2500,1395
