OziExplorer Map Data File Version 2.2
F21A-FuerteOlympi.png
sf21-1.png
1 ,Map Code,
Pulkovo 1942 (1),, 0.0000, 0.0000,WGS 84
Reserved 1
Reserved 2
Magnetic Variation,,,E
Map Projection,Latitude/Longitude,PolyCal,Yes,AutoCalOnly,No,BSBUseWPX,No
Point01,xy, 70, 119,in, deg, 20, 0.0000,S, 60, 0.0000,W, grid, , , ,
Point02,xy, 1931, 112,in, deg, 20, 0.0000,S, 58, 30.0000,W, grid, , , ,
Point03,xy, 3790, 115,in, deg, 20, 0.0000,S, 57, 0.0000,W, grid, , , ,
Point04,xy, 87, 1427,in, deg, 21, 0.0000,S, 60, 0.0000,W, grid, , , ,
Point05,xy, 1934, 1419,in, deg, 21, 0.0000,S, 58, 30.0000,W, grid, , , ,
Point06,xy, 3780, 1424,in, deg, 21, 0.0000,S, 57, 0.0000,W, grid, , , ,
Point07,xy, 101, 2739,in, deg, 22, 0.0000,S, 60, 0.0000,W, grid, , , ,
Point08,xy, 1936, 2725,in, deg, 22, 0.0000,S, 58, 30.0000,W, grid, , , ,
Point09,xy, 3769, 2735,in, deg, 22, 0.0000,S, 57, 0.0000,W, grid, , , ,
Point10,xy, , ,in, deg, , ,, , ,, grid, , , ,
Point11,xy, , ,in, deg, , ,, , ,, grid, , , ,
Point12,xy, , ,in, deg, , ,, , ,, grid, , , ,
Point13,xy, , ,in, deg, , ,, , ,, grid, , , ,
Point14,xy, , ,in, deg, , ,, , ,, grid, , , ,
Point15,xy, , ,in, deg, , ,, , ,, grid, , , ,
Point16,xy, , ,in, deg, , ,, , ,, grid, , , ,
Point17,xy, , ,in, deg, , ,, , ,, grid, , , ,
Point18,xy, , ,in, deg, , ,, , ,, grid, , , ,
Point19,xy, , ,in, deg, , ,, , ,, grid, , , ,
Point20,xy, , ,in, deg, , ,, , ,, grid, , , ,
Point21,xy, , ,in, deg, , ,, , ,, grid, , , ,
Point22,xy, , ,in, deg, , ,, , ,, grid, , , ,
Point23,xy, , ,in, deg, , ,, , ,, grid, , , ,
Point24,xy, , ,in, deg, , ,, , ,, grid, , , ,
Point25,xy, , ,in, deg, , ,, , ,, grid, , , ,
Point26,xy, , ,in, deg, , ,, , ,, grid, , , ,
Point27,xy, , ,in, deg, , ,, , ,, grid, , , ,
Point28,xy, , ,in, deg, , ,, , ,, grid, , , ,
Point29,xy, , ,in, deg, , ,, , ,, grid, , , ,
Point30,xy, , ,in, deg, , ,, , ,, grid, , , ,
Projection Setup,,,,,,,,,,
Map Feature = MF ; Map Comment = MC These follow if they exist
Track File = TF These follow if they exist
Moving Map Parameters = MM? These follow if they exist
MM0,Yes
MMPNUM,4
MMPXY,1,0,1
MMPXY,2,3880,0
MMPXY,3,3854,3077
MMPXY,4,1,3081
MMPLL,1, -60.055279, -19.908627
MMPLL,2, -56.927933, -19.910646
MMPLL,3, -56.927534, -22.261334
MMPLL,4, -60.084966, -22.261337
MM1B,84.195638
MOP,Map Open Position,0,0
IWH,Map Image Width/Height,2500,1395
