OziExplorer Map Data File Version 2.2
F20B-Oran.png
sf20-3.png
1 ,Map Code,
Pulkovo 1942 (1),, 0.0000, 0.0000,WGS 84
Reserved 1
Reserved 2
Magnetic Variation,,,E
Map Projection,Latitude/Longitude,PolyCal,Yes,AutoCalOnly,No,BSBUseWPX,No
Point01,xy, 65, 114,in, deg, 22, 0.0000,S, 66, 0.0000,W, grid, , , ,
Point02,xy, 1900, 113,in, deg, 22, 0.0000,S, 64, 30.0000,W, grid, , , ,
Point03,xy, 3734, 126,in, deg, 22, 0.0000,S, 63, 0.0000,W, grid, , , ,
Point04,xy, 78, 1423,in, deg, 23, 0.0000,S, 66, 0.0000,W, grid, , , ,
Point05,xy, 1900, 1421,in, deg, 23, 0.0000,S, 64, 30.0000,W, grid, , , ,
Point06,xy, 3719, 1431,in, deg, 23, 0.0000,S, 63, 0.0000,W, grid, , , ,
Point07,xy, 92, 2732,in, deg, 24, 0.0000,S, 66, 0.0000,W, grid, , , ,
Point08,xy, 1898, 2728,in, deg, 24, 0.0000,S, 64, 30.0000,W, grid, , , ,
Point09,xy, 3705, 2741,in, deg, 24, 0.0000,S, 63, 0.0000,W, grid, , , ,
Point10,xy, , ,in, deg, , ,, , ,, grid, , , ,
Point11,xy, , ,in, deg, , ,, , ,, grid, , , ,
Point12,xy, , ,in, deg, , ,, , ,, grid, , , ,
Point13,xy, , ,in, deg, , ,, , ,, grid, , , ,
Point14,xy, , ,in, deg, , ,, , ,, grid, , , ,
Point15,xy, , ,in, deg, , ,, , ,, grid, , , ,
Point16,xy, , ,in, deg, , ,, , ,, grid, , , ,
Point17,xy, , ,in, deg, , ,, , ,, grid, , , ,
Point18,xy, , ,in, deg, , ,, , ,, grid, , , ,
Point19,xy, , ,in, deg, , ,, , ,, grid, , , ,
Point20,xy, , ,in, deg, , ,, , ,, grid, , , ,
Point21,xy, , ,in, deg, , ,, , ,, grid, , , ,
Point22,xy, , ,in, deg, , ,, , ,, grid, , , ,
Point23,xy, , ,in, deg, , ,, , ,, grid, , , ,
Point24,xy, , ,in, deg, , ,, , ,, grid, , , ,
Point25,xy, , ,in, deg, , ,, , ,, grid, , , ,
Point26,xy, , ,in, deg, , ,, , ,, grid, , , ,
Point27,xy, , ,in, deg, , ,, , ,, grid, , , ,
Point28,xy, , ,in, deg, , ,, , ,, grid, , , ,
Point29,xy, , ,in, deg, , ,, , ,, grid, , , ,
Point30,xy, , ,in, deg, , ,, , ,, grid, , , ,
Projection Setup,,,,,,,,,,
Map Feature = MF ; Map Comment = MC These follow if they exist
Track File = TF These follow if they exist
Moving Map Parameters = MM? These follow if they exist
MM0,Yes
MMPNUM,4
MMPXY,1,0,0
MMPXY,2,3835,0
MMPXY,3,3799,3091
MMPXY,4,0,3083
MMPLL,1, -66.052127, -21.912203
MMPLL,2, -62.918595, -21.902941
MMPLL,3, -62.918200, -24.267311
MMPLL,4, -66.079194, -24.267470
MM1B,84.268617
MOP,Map Open Position,0,0
IWH,Map Image Width/Height,2500,1395
