OziExplorer Map Data File Version 2.2
F20-b-FortinGarrapatalj.png
sf20-2.png
1 ,Map Code,
Pulkovo 1942 (1),, 0.0000, 0.0000,WGS 84
Reserved 1
Reserved 2
Magnetic Variation,,,E
Map Projection,Latitude/Longitude,PolyCal,Yes,AutoCalOnly,No,BSBUseWPX,No
Point01,xy, 71, 126,in, deg, 20, 0.0000,S, 63, 0.0000,W, grid, , , ,
Point02,xy, 1929, 115,in, deg, 20, 0.0000,S, 61, 30.0000,W, grid, , , ,
Point03,xy, 3789, 117,in, deg, 20, 0.0000,S, 60, 0.0000,W, grid, , , ,
Point04,xy, 88, 1434,in, deg, 21, 0.0000,S, 63, 0.0000,W, grid, , , ,
Point05,xy, 1934, 1426,in, deg, 21, 0.0000,S, 61, 30.0000,W, grid, , , ,
Point06,xy, 3781, 1428,in, deg, 21, 0.0000,S, 60, 0.0000,W, grid, , , ,
Point07,xy, 105, 2744,in, deg, 22, 0.0000,S, 63, 0.0000,W, grid, , , ,
Point08,xy, 1938, 2732,in, deg, 22, 0.0000,S, 61, 30.0000,W, grid, , , ,
Point09,xy, 3772, 2737,in, deg, 22, 0.0000,S, 60, 0.0000,W, grid, , , ,
Point10,xy, , ,in, deg, , ,, , ,, grid, , , ,
Point11,xy, , ,in, deg, , ,, , ,, grid, , , ,
Point12,xy, , ,in, deg, , ,, , ,, grid, , , ,
Point13,xy, , ,in, deg, , ,, , ,, grid, , , ,
Point14,xy, , ,in, deg, , ,, , ,, grid, , , ,
Point15,xy, , ,in, deg, , ,, , ,, grid, , , ,
Point16,xy, , ,in, deg, , ,, , ,, grid, , , ,
Point17,xy, , ,in, deg, , ,, , ,, grid, , , ,
Point18,xy, , ,in, deg, , ,, , ,, grid, , , ,
Point19,xy, , ,in, deg, , ,, , ,, grid, , , ,
Point20,xy, , ,in, deg, , ,, , ,, grid, , , ,
Point21,xy, , ,in, deg, , ,, , ,, grid, , , ,
Point22,xy, , ,in, deg, , ,, , ,, grid, , , ,
Point23,xy, , ,in, deg, , ,, , ,, grid, , , ,
Point24,xy, , ,in, deg, , ,, , ,, grid, , , ,
Point25,xy, , ,in, deg, , ,, , ,, grid, , , ,
Point26,xy, , ,in, deg, , ,, , ,, grid, , , ,
Point27,xy, , ,in, deg, , ,, , ,, grid, , , ,
Point28,xy, , ,in, deg, , ,, , ,, grid, , , ,
Point29,xy, , ,in, deg, , ,, , ,, grid, , , ,
Point30,xy, , ,in, deg, , ,, , ,, grid, , , ,
Projection Setup,,,,,,,,,,
Map Feature = MF ; Map Comment = MC These follow if they exist
Track File = TF These follow if they exist
Moving Map Parameters = MM? These follow if they exist
MM0,Yes
MMPNUM,4
MMPXY,1,0,0
MMPXY,2,3876,0
MMPXY,3,3854,3076
MMPXY,4,0,3083
MMPLL,1, -63.055750, -19.903554
MMPLL,2, -59.930435, -19.910153
MMPLL,3, -59.931016, -22.259057
MMPLL,4, -63.089568, -22.259372
MM1B,84.446440
MOP,Map Open Position,0,0
IWH,Map Image Width/Height,2500,1395
