OziExplorer Map Data File Version 2.2
F20A-Taricha.png
sf20-1.png
1 ,Map Code,
Pulkovo 1942 (1),, 0.0000, 0.0000,WGS 84
Reserved 1
Reserved 2
Magnetic Variation,,,E
Map Projection,Latitude/Longitude,PolyCal,Yes,AutoCalOnly,No,BSBUseWPX,No
Point01,xy, 62, 109,in, deg, 20, 0.0000,S, 66, 0.0000,W, grid, , , ,
Point02,xy, 1921, 113,in, deg, 20, 0.0000,S, 64, 30.0000,W, grid, , , ,
Point03,xy, 3777, 129,in, deg, 20, 0.0000,S, 63, 0.0000,W, grid, , , ,
Point04,xy, 70, 1417,in, deg, 21, 0.0000,S, 66, 0.0000,W, grid, , , ,
Point05,xy, 1917, 1420,in, deg, 21, 0.0000,S, 64, 30.0000,W, grid, , , ,
Point06,xy, 3762, 1435,in, deg, 21, 0.0000,S, 63, 0.0000,W, grid, , , ,
Point07,xy, 80, 2726,in, deg, 22, 0.0000,S, 66, 0.0000,W, grid, , , ,
Point08,xy, 1911, 2728,in, deg, 22, 0.0000,S, 64, 30.0000,W, grid, , , ,
Point09,xy, 3743, 2745,in, deg, 22, 0.0000,S, 63, 0.0000,W, grid, , , ,
Point10,xy, , ,in, deg, , ,, , ,, grid, , , ,
Point11,xy, , ,in, deg, , ,, , ,, grid, , , ,
Point12,xy, , ,in, deg, , ,, , ,, grid, , , ,
Point13,xy, , ,in, deg, , ,, , ,, grid, , , ,
Point14,xy, , ,in, deg, , ,, , ,, grid, , , ,
Point15,xy, , ,in, deg, , ,, , ,, grid, , , ,
Point16,xy, , ,in, deg, , ,, , ,, grid, , , ,
Point17,xy, , ,in, deg, , ,, , ,, grid, , , ,
Point18,xy, , ,in, deg, , ,, , ,, grid, , , ,
Point19,xy, , ,in, deg, , ,, , ,, grid, , , ,
Point20,xy, , ,in, deg, , ,, , ,, grid, , , ,
Point21,xy, , ,in, deg, , ,, , ,, grid, , , ,
Point22,xy, , ,in, deg, , ,, , ,, grid, , , ,
Point23,xy, , ,in, deg, , ,, , ,, grid, , , ,
Point24,xy, , ,in, deg, , ,, , ,, grid, , , ,
Point25,xy, , ,in, deg, , ,, , ,, grid, , , ,
Point26,xy, , ,in, deg, , ,, , ,, grid, , , ,
Point27,xy, , ,in, deg, , ,, , ,, grid, , , ,
Point28,xy, , ,in, deg, , ,, , ,, grid, , , ,
Point29,xy, , ,in, deg, , ,, , ,, grid, , , ,
Point30,xy, , ,in, deg, , ,, , ,, grid, , , ,
Projection Setup,,,,,,,,,,
Map Feature = MF ; Map Comment = MC These follow if they exist
Track File = TF These follow if they exist
Moving Map Parameters = MM? These follow if they exist
MM0,Yes
MMPNUM,4
MMPXY,1,0,0
MMPXY,2,3889,0
MMPXY,3,3845,3114
MMPXY,4,0,3094
MMPLL,1, -66.049129, -19.916144
MMPLL,2, -62.911488, -19.900216
MMPLL,3, -62.911995, -22.281108
MMPLL,4, -66.066500, -22.280727
MM1B,84.299829
MOP,Map Open Position,0,0
IWH,Map Image Width/Height,2500,1395
