OziExplorer Map Data File Version 2.2
F19r-Tschukikamata.png
sf19-4.png
1 ,Map Code,
Pulkovo 1942 (1),, 0.0000, 0.0000,WGS 84
Reserved 1
Reserved 2
Magnetic Variation,,,E
Map Projection,Latitude/Longitude,PolyCal,Yes,AutoCalOnly,No,BSBUseWPX,No
Point01,xy, 79, 118,in, deg, 22, 0.0000,S, 69, 0.0000,W, grid, , , ,
Point02,xy, 1912, 112,in, deg, 22, 0.0000,S, 67, 30.0000,W, grid, , , ,
Point03,xy, 3745, 120,in, deg, 22, 0.0000,S, 66, 0.0000,W, grid, , , ,
Point04,xy, 93, 1424,in, deg, 23, 0.0000,S, 69, 0.0000,W, grid, , , ,
Point05,xy, 1914, 1422,in, deg, 23, 0.0000,S, 67, 30.0000,W, grid, , , ,
Point06,xy, 3735, 1427,in, deg, 23, 0.0000,S, 66, 0.0000,W, grid, , , ,
Point07,xy, 107, 2733,in, deg, 24, 0.0000,S, 69, 0.0000,W, grid, , , ,
Point08,xy, 1913, 2728,in, deg, 24, 0.0000,S, 67, 30.0000,W, grid, , , ,
Point09,xy, 3722, 2739,in, deg, 24, 0.0000,S, 66, 0.0000,W, grid, , , ,
Point10,xy, , ,in, deg, , ,, , ,, grid, , , ,
Point11,xy, , ,in, deg, , ,, , ,, grid, , , ,
Point12,xy, , ,in, deg, , ,, , ,, grid, , , ,
Point13,xy, , ,in, deg, , ,, , ,, grid, , , ,
Point14,xy, , ,in, deg, , ,, , ,, grid, , , ,
Point15,xy, , ,in, deg, , ,, , ,, grid, , , ,
Point16,xy, , ,in, deg, , ,, , ,, grid, , , ,
Point17,xy, , ,in, deg, , ,, , ,, grid, , , ,
Point18,xy, , ,in, deg, , ,, , ,, grid, , , ,
Point19,xy, , ,in, deg, , ,, , ,, grid, , , ,
Point20,xy, , ,in, deg, , ,, , ,, grid, , , ,
Point21,xy, , ,in, deg, , ,, , ,, grid, , , ,
Point22,xy, , ,in, deg, , ,, , ,, grid, , , ,
Point23,xy, , ,in, deg, , ,, , ,, grid, , , ,
Point24,xy, , ,in, deg, , ,, , ,, grid, , , ,
Point25,xy, , ,in, deg, , ,, , ,, grid, , , ,
Point26,xy, , ,in, deg, , ,, , ,, grid, , , ,
Point27,xy, , ,in, deg, , ,, , ,, grid, , , ,
Point28,xy, , ,in, deg, , ,, , ,, grid, , , ,
Point29,xy, , ,in, deg, , ,, , ,, grid, , , ,
Point30,xy, , ,in, deg, , ,, , ,, grid, , , ,
Projection Setup,,,,,,,,,,
Map Feature = MF ; Map Comment = MC These follow if they exist
Track File = TF These follow if they exist
Moving Map Parameters = MM? These follow if they exist
MM0,Yes
MMPNUM,4
MMPXY,1,0,0
MMPXY,2,3843,0
MMPXY,3,3817,2792
MMPXY,4,0,2786
MMPLL,1, -69.063391, -21.909345
MMPLL,2, -65.920977, -21.908053
MMPLL,3, -65.920664, -24.040403
MMPLL,4, -69.088769, -24.040394
MM1B,84.498100
MOP,Map Open Position,0,0
IWH,Map Image Width/Height,2500,1395
