OziExplorer Map Data File Version 2.2
F19B-Antofagasta.png
sf19-3.png
1 ,Map Code,
Pulkovo 1942 (1),, 0.0000, 0.0000,WGS 84
Reserved 1
Reserved 2
Magnetic Variation,,,E
Map Projection,Latitude/Longitude,PolyCal,Yes,AutoCalOnly,No,BSBUseWPX,No
Point01,xy, 62, 113,in, deg, 22, 0.0000,S, 72, 0.0000,W, grid, , , ,
Point02,xy, 1897, 111,in, deg, 22, 0.0000,S, 70, 30.0000,W, grid, , , ,
Point03,xy, 3730, 119,in, deg, 22, 0.0000,S, 69, 0.0000,W, grid, , , ,
Point04,xy, 78, 1423,in, deg, 23, 0.0000,S, 72, 0.0000,W, grid, , , ,
Point05,xy, 1898, 1419,in, deg, 23, 0.0000,S, 70, 30.0000,W, grid, , , ,
Point06,xy, 3718, 1428,in, deg, 23, 0.0000,S, 69, 0.0000,W, grid, , , ,
Point07,xy, 91, 2731,in, deg, 24, 0.0000,S, 72, 0.0000,W, grid, , , ,
Point08,xy, 1896, 2726,in, deg, 24, 0.0000,S, 70, 30.0000,W, grid, , , ,
Point09,xy, 3704, 2737,in, deg, 24, 0.0000,S, 69, 0.0000,W, grid, , , ,
Point10,xy, , ,in, deg, , ,, , ,, grid, , , ,
Point11,xy, , ,in, deg, , ,, , ,, grid, , , ,
Point12,xy, , ,in, deg, , ,, , ,, grid, , , ,
Point13,xy, , ,in, deg, , ,, , ,, grid, , , ,
Point14,xy, , ,in, deg, , ,, , ,, grid, , , ,
Point15,xy, , ,in, deg, , ,, , ,, grid, , , ,
Point16,xy, , ,in, deg, , ,, , ,, grid, , , ,
Point17,xy, , ,in, deg, , ,, , ,, grid, , , ,
Point18,xy, , ,in, deg, , ,, , ,, grid, , , ,
Point19,xy, , ,in, deg, , ,, , ,, grid, , , ,
Point20,xy, , ,in, deg, , ,, , ,, grid, , , ,
Point21,xy, , ,in, deg, , ,, , ,, grid, , , ,
Point22,xy, , ,in, deg, , ,, , ,, grid, , , ,
Point23,xy, , ,in, deg, , ,, , ,, grid, , , ,
Point24,xy, , ,in, deg, , ,, , ,, grid, , , ,
Point25,xy, , ,in, deg, , ,, , ,, grid, , , ,
Point26,xy, , ,in, deg, , ,, , ,, grid, , , ,
Point27,xy, , ,in, deg, , ,, , ,, grid, , , ,
Point28,xy, , ,in, deg, , ,, , ,, grid, , , ,
Point29,xy, , ,in, deg, , ,, , ,, grid, , , ,
Point30,xy, , ,in, deg, , ,, , ,, grid, , , ,
Projection Setup,,,,,,,,,,
Map Feature = MF ; Map Comment = MC These follow if they exist
Track File = TF These follow if they exist
Moving Map Parameters = MM? These follow if they exist
MM0,Yes
MMPNUM,4
MMPXY,1,0,0
MMPXY,2,3811,1
MMPXY,3,3781,2805
MMPXY,4,0,2800
MMPLL,1, -72.049873, -21.912938
MMPLL,2, -68.934845, -21.909103
MMPLL,3, -68.934912, -24.051984
MMPLL,4, -72.075805, -24.052623
MM1B,84.354856
MOP,Map Open Position,0,0
IWH,Map Image Width/Height,2500,1395
