OziExplorer Map Data File Version 2.2
F19-b-Utschin.png
sf19-2.png
1 ,Map Code,
Pulkovo 1942 (1),, 0.0000, 0.0000,WGS 84
Reserved 1
Reserved 2
Magnetic Variation,,,E
Map Projection,Latitude/Longitude,PolyCal,Yes,AutoCalOnly,No,BSBUseWPX,No
Point01,xy, 77, 116,in, deg, 20, 0.0000,S, 69, 0.0000,W, grid, , , ,
Point02,xy, 1935, 115,in, deg, 20, 0.0000,S, 67, 30.0000,W, grid, , , ,
Point03,xy, 3791, 123,in, deg, 20, 0.0000,S, 66, 0.0000,W, grid, , , ,
Point04,xy, 88, 1424,in, deg, 21, 0.0000,S, 69, 0.0000,W, grid, , , ,
Point05,xy, 1933, 1423,in, deg, 21, 0.0000,S, 67, 30.0000,W, grid, , , ,
Point06,xy, 3779, 1432,in, deg, 21, 0.0000,S, 66, 0.0000,W, grid, , , ,
Point07,xy, 99, 2731,in, deg, 22, 0.0000,S, 69, 0.0000,W, grid, , , ,
Point08,xy, 1933, 2730,in, deg, 22, 0.0000,S, 67, 30.0000,W, grid, , , ,
Point09,xy, 3765, 2743,in, deg, 22, 0.0000,S, 66, 0.0000,W, grid, , , ,
Point10,xy, , ,in, deg, , ,, , ,, grid, , , ,
Point11,xy, , ,in, deg, , ,, , ,, grid, , , ,
Point12,xy, , ,in, deg, , ,, , ,, grid, , , ,
Point13,xy, , ,in, deg, , ,, , ,, grid, , , ,
Point14,xy, , ,in, deg, , ,, , ,, grid, , , ,
Point15,xy, , ,in, deg, , ,, , ,, grid, , , ,
Point16,xy, , ,in, deg, , ,, , ,, grid, , , ,
Point17,xy, , ,in, deg, , ,, , ,, grid, , , ,
Point18,xy, , ,in, deg, , ,, , ,, grid, , , ,
Point19,xy, , ,in, deg, , ,, , ,, grid, , , ,
Point20,xy, , ,in, deg, , ,, , ,, grid, , , ,
Point21,xy, , ,in, deg, , ,, , ,, grid, , , ,
Point22,xy, , ,in, deg, , ,, , ,, grid, , , ,
Point23,xy, , ,in, deg, , ,, , ,, grid, , , ,
Point24,xy, , ,in, deg, , ,, , ,, grid, , , ,
Point25,xy, , ,in, deg, , ,, , ,, grid, , , ,
Point26,xy, , ,in, deg, , ,, , ,, grid, , , ,
Point27,xy, , ,in, deg, , ,, , ,, grid, , , ,
Point28,xy, , ,in, deg, , ,, , ,, grid, , , ,
Point29,xy, , ,in, deg, , ,, , ,, grid, , , ,
Point30,xy, , ,in, deg, , ,, , ,, grid, , , ,
Projection Setup,,,,,,,,,,
Map Feature = MF ; Map Comment = MC These follow if they exist
Track File = TF These follow if they exist
Moving Map Parameters = MM? These follow if they exist
MM0,Yes
MMPNUM,4
MMPXY,1,0,0
MMPXY,2,3889,0
MMPXY,3,3859,2821
MMPXY,4,0,2809
MMPLL,1, -69.061328, -19.910554
MMPLL,2, -65.922114, -19.905442
MMPLL,3, -65.922651, -22.059460
MMPLL,4, -69.081530, -22.059638
MM1B,84.440197
MOP,Map Open Position,0,0
IWH,Map Image Width/Height,2500,1395
