OziExplorer Map Data File Version 2.2
F19A.png
sf19-1.png
1 ,Map Code,
Pulkovo 1942 (1),, 0.0000, 0.0000,WGS 84
Reserved 1
Reserved 2
Magnetic Variation,,,E
Map Projection,Latitude/Longitude,PolyCal,Yes,AutoCalOnly,No,BSBUseWPX,No
Point01,xy, 69, 115,in, deg, 20, 0.0000,S, 72, 0.0000,W, grid, , , ,
Point02,xy, 1926, 107,in, deg, 20, 0.0000,S, 70, 30.0000,W, grid, , , ,
Point03,xy, 3783, 117,in, deg, 20, 0.0000,S, 69, 0.0000,W, grid, , , ,
Point04,xy, 84, 1425,in, deg, 21, 0.0000,S, 72, 0.0000,W, grid, , , ,
Point05,xy, 1930, 1417,in, deg, 21, 0.0000,S, 70, 30.0000,W, grid, , , ,
Point06,xy, 3776, 1426,in, deg, 21, 0.0000,S, 69, 0.0000,W, grid, , , ,
Point07,xy, 101, 2732,in, deg, 22, 0.0000,S, 72, 0.0000,W, grid, , , ,
Point08,xy, 1932, 2723,in, deg, 22, 0.0000,S, 70, 30.0000,W, grid, , , ,
Point09,xy, 3765, 2731,in, deg, 22, 0.0000,S, 69, 0.0000,W, grid, , , ,
Point10,xy, , ,in, deg, , ,, , ,, grid, , , ,
Point11,xy, , ,in, deg, , ,, , ,, grid, , , ,
Point12,xy, , ,in, deg, , ,, , ,, grid, , , ,
Point13,xy, , ,in, deg, , ,, , ,, grid, , , ,
Point14,xy, , ,in, deg, , ,, , ,, grid, , , ,
Point15,xy, , ,in, deg, , ,, , ,, grid, , , ,
Point16,xy, , ,in, deg, , ,, , ,, grid, , , ,
Point17,xy, , ,in, deg, , ,, , ,, grid, , , ,
Point18,xy, , ,in, deg, , ,, , ,, grid, , , ,
Point19,xy, , ,in, deg, , ,, , ,, grid, , , ,
Point20,xy, , ,in, deg, , ,, , ,, grid, , , ,
Point21,xy, , ,in, deg, , ,, , ,, grid, , , ,
Point22,xy, , ,in, deg, , ,, , ,, grid, , , ,
Point23,xy, , ,in, deg, , ,, , ,, grid, , , ,
Point24,xy, , ,in, deg, , ,, , ,, grid, , , ,
Point25,xy, , ,in, deg, , ,, , ,, grid, , , ,
Point26,xy, , ,in, deg, , ,, , ,, grid, , , ,
Point27,xy, , ,in, deg, , ,, , ,, grid, , , ,
Point28,xy, , ,in, deg, , ,, , ,, grid, , , ,
Point29,xy, , ,in, deg, , ,, , ,, grid, , , ,
Point30,xy, , ,in, deg, , ,, , ,, grid, , , ,
Projection Setup,,,,,,,,,,
Map Feature = MF ; Map Comment = MC These follow if they exist
Track File = TF These follow if they exist
Moving Map Parameters = MM? These follow if they exist
MM0,Yes
MMPNUM,4
MMPXY,1,0,0
MMPXY,2,3875,0
MMPXY,3,3852,3078
MMPXY,4,0,3080
MMPLL,1, -72.054171, -19.912069
MMPLL,2, -68.926836, -19.910067
MMPLL,3, -68.926586, -22.265572
MMPLL,4, -72.085388, -22.266000
MM1B,84.407812
MOP,Map Open Position,0,0
IWH,Map Image Width/Height,2500,1395
