OziExplorer Map Data File Version 2.2
E24B-GovernadorWaladaris.png
se24-3.png
1 ,Map Code,
Pulkovo 1942 (1),, 0.0000, 0.0000,WGS 84
Reserved 1
Reserved 2
Magnetic Variation,,,E
Map Projection,Latitude/Longitude,PolyCal,Yes,AutoCalOnly,No,BSBUseWPX,No
Point01,xy, 74, 117,in, deg, 18, 0.0000,S, 42, 0.0000,W, grid, , , ,
Point02,xy, 1955, 119,in, deg, 18, 0.0000,S, 40, 30.0000,W, grid, , , ,
Point03,xy, 3832, 133,in, deg, 18, 0.0000,S, 39, 0.0000,W, grid, , , ,
Point04,xy, 81, 1424,in, deg, 19, 0.0000,S, 42, 0.0000,W, grid, , , ,
Point05,xy, 1952, 1426,in, deg, 19, 0.0000,S, 40, 30.0000,W, grid, , , ,
Point06,xy, 3814, 1441,in, deg, 19, 0.0000,S, 39, 0.0000,W, grid, , , ,
Point07,xy, 86, 2736,in, deg, 20, 0.0000,S, 42, 0.0000,W, grid, , , ,
Point08,xy, 1945, 2736,in, deg, 20, 0.0000,S, 40, 30.0000,W, grid, , , ,
Point09,xy, 3800, 2747,in, deg, 20, 0.0000,S, 39, 0.0000,W, grid, , , ,
Point10,xy, , ,in, deg, , ,, , ,, grid, , , ,
Point11,xy, , ,in, deg, , ,, , ,, grid, , , ,
Point12,xy, , ,in, deg, , ,, , ,, grid, , , ,
Point13,xy, , ,in, deg, , ,, , ,, grid, , , ,
Point14,xy, , ,in, deg, , ,, , ,, grid, , , ,
Point15,xy, , ,in, deg, , ,, , ,, grid, , , ,
Point16,xy, , ,in, deg, , ,, , ,, grid, , , ,
Point17,xy, , ,in, deg, , ,, , ,, grid, , , ,
Point18,xy, , ,in, deg, , ,, , ,, grid, , , ,
Point19,xy, , ,in, deg, , ,, , ,, grid, , , ,
Point20,xy, , ,in, deg, , ,, , ,, grid, , , ,
Point21,xy, , ,in, deg, , ,, , ,, grid, , , ,
Point22,xy, , ,in, deg, , ,, , ,, grid, , , ,
Point23,xy, , ,in, deg, , ,, , ,, grid, , , ,
Point24,xy, , ,in, deg, , ,, , ,, grid, , , ,
Point25,xy, , ,in, deg, , ,, , ,, grid, , , ,
Point26,xy, , ,in, deg, , ,, , ,, grid, , , ,
Point27,xy, , ,in, deg, , ,, , ,, grid, , , ,
Point28,xy, , ,in, deg, , ,, , ,, grid, , , ,
Point29,xy, , ,in, deg, , ,, , ,, grid, , , ,
Point30,xy, , ,in, deg, , ,, , ,, grid, , , ,
Projection Setup,,,,,,,,,,
Map Feature = MF ; Map Comment = MC These follow if they exist
Track File = TF These follow if they exist
Moving Map Parameters = MM? These follow if they exist
MM0,Yes
MMPNUM,4
MMPXY,1,0,0
MMPXY,2,3927,1
MMPXY,3,3886,3232
MMPXY,4,1,3220
MMPLL,1, -42.058580, -17.910856
MMPLL,2, -38.924584, -17.897593
MMPLL,3, -38.924477, -20.369122
MMPLL,4, -42.070345, -20.368995
MM1B,84.188534
MOP,Map Open Position,0,0
IWH,Map Image Width/Height,2500,1395
