OziExplorer Map Data File Version 2.2
E24A-TeofiloOtoni.png
se24-1.png
1 ,Map Code,
Pulkovo 1942 (1),, 0.0000, 0.0000,WGS 84
Reserved 1
Reserved 2
Magnetic Variation,,,E
Map Projection,Latitude/Longitude,PolyCal,Yes,AutoCalOnly,No,BSBUseWPX,No
Point01,xy, 74, 116,in, deg, 16, 0.0000,S, 42, 0.0000,W, grid, , , ,
Point02,xy, 1972, 115,in, deg, 16, 0.0000,S, 40, 30.0000,W, grid, , , ,
Point03,xy, 3870, 121,in, deg, 16, 0.0000,S, 39, 0.0000,W, grid, , , ,
Point04,xy, 87, 1426,in, deg, 17, 0.0000,S, 42, 0.0000,W, grid, , , ,
Point05,xy, 1972, 1422,in, deg, 17, 0.0000,S, 40, 30.0000,W, grid, , , ,
Point06,xy, 3861, 1426,in, deg, 17, 0.0000,S, 39, 0.0000,W, grid, , , ,
Point07,xy, 96, 2735,in, deg, 18, 0.0000,S, 42, 0.0000,W, grid, , , ,
Point08,xy, 1974, 2728,in, deg, 18, 0.0000,S, 40, 30.0000,W, grid, , , ,
Point09,xy, 3851, 2732,in, deg, 18, 0.0000,S, 39, 0.0000,W, grid, , , ,
Point10,xy, , ,in, deg, , ,, , ,, grid, , , ,
Point11,xy, , ,in, deg, , ,, , ,, grid, , , ,
Point12,xy, , ,in, deg, , ,, , ,, grid, , , ,
Point13,xy, , ,in, deg, , ,, , ,, grid, , , ,
Point14,xy, , ,in, deg, , ,, , ,, grid, , , ,
Point15,xy, , ,in, deg, , ,, , ,, grid, , , ,
Point16,xy, , ,in, deg, , ,, , ,, grid, , , ,
Point17,xy, , ,in, deg, , ,, , ,, grid, , , ,
Point18,xy, , ,in, deg, , ,, , ,, grid, , , ,
Point19,xy, , ,in, deg, , ,, , ,, grid, , , ,
Point20,xy, , ,in, deg, , ,, , ,, grid, , , ,
Point21,xy, , ,in, deg, , ,, , ,, grid, , , ,
Point22,xy, , ,in, deg, , ,, , ,, grid, , , ,
Point23,xy, , ,in, deg, , ,, , ,, grid, , , ,
Point24,xy, , ,in, deg, , ,, , ,, grid, , , ,
Point25,xy, , ,in, deg, , ,, , ,, grid, , , ,
Point26,xy, , ,in, deg, , ,, , ,, grid, , , ,
Point27,xy, , ,in, deg, , ,, , ,, grid, , , ,
Point28,xy, , ,in, deg, , ,, , ,, grid, , , ,
Point29,xy, , ,in, deg, , ,, , ,, grid, , , ,
Point30,xy, , ,in, deg, , ,, , ,, grid, , , ,
Projection Setup,,,,,,,,,,
Map Feature = MF ; Map Comment = MC These follow if they exist
Track File = TF These follow if they exist
Moving Map Parameters = MM? These follow if they exist
MM0,Yes
MMPNUM,4
MMPXY,1,0,0
MMPXY,2,3963,0
MMPXY,3,3939,3100
MMPXY,4,2,3104
MMPLL,1, -42.057969, -15.910892
MMPLL,2, -38.927119, -15.906807
MMPLL,3, -38.927298, -18.282217
MMPLL,4, -42.077976, -18.281669
MM1B,84.509055
MOP,Map Open Position,0,0
IWH,Map Image Width/Height,2500,1395
