OziExplorer Map Data File Version 2.2
E23r-BeluOrizonti.png
se23-4.png
1 ,Map Code,
Pulkovo 1942 (1),, 0.0000, 0.0000,WGS 84
Reserved 1
Reserved 2
Magnetic Variation,,,E
Map Projection,Latitude/Longitude,PolyCal,Yes,AutoCalOnly,No,BSBUseWPX,No
Point01,xy, 70, 106,in, deg, 18, 0.0000,S, 45, 0.0000,W, grid, , , ,
Point02,xy, 1949, 117,in, deg, 18, 0.0000,S, 43, 30.0000,W, grid, , , ,
Point03,xy, 3832, 136,in, deg, 18, 0.0000,S, 42, 0.0000,W, grid, , , ,
Point04,xy, 78, 1414,in, deg, 19, 0.0000,S, 45, 0.0000,W, grid, , , ,
Point05,xy, 1945, 1423,in, deg, 19, 0.0000,S, 43, 30.0000,W, grid, , , ,
Point06,xy, 3813, 1444,in, deg, 19, 0.0000,S, 42, 0.0000,W, grid, , , ,
Point07,xy, 81, 2722,in, deg, 20, 0.0000,S, 45, 0.0000,W, grid, , , ,
Point08,xy, 1938, 2731,in, deg, 20, 0.0000,S, 43, 30.0000,W, grid, , , ,
Point09,xy, 3795, 2753,in, deg, 20, 0.0000,S, 42, 0.0000,W, grid, , , ,
Point10,xy, , ,in, deg, , ,, , ,, grid, , , ,
Point11,xy, , ,in, deg, , ,, , ,, grid, , , ,
Point12,xy, , ,in, deg, , ,, , ,, grid, , , ,
Point13,xy, , ,in, deg, , ,, , ,, grid, , , ,
Point14,xy, , ,in, deg, , ,, , ,, grid, , , ,
Point15,xy, , ,in, deg, , ,, , ,, grid, , , ,
Point16,xy, , ,in, deg, , ,, , ,, grid, , , ,
Point17,xy, , ,in, deg, , ,, , ,, grid, , , ,
Point18,xy, , ,in, deg, , ,, , ,, grid, , , ,
Point19,xy, , ,in, deg, , ,, , ,, grid, , , ,
Point20,xy, , ,in, deg, , ,, , ,, grid, , , ,
Point21,xy, , ,in, deg, , ,, , ,, grid, , , ,
Point22,xy, , ,in, deg, , ,, , ,, grid, , , ,
Point23,xy, , ,in, deg, , ,, , ,, grid, , , ,
Point24,xy, , ,in, deg, , ,, , ,, grid, , , ,
Point25,xy, , ,in, deg, , ,, , ,, grid, , , ,
Point26,xy, , ,in, deg, , ,, , ,, grid, , , ,
Point27,xy, , ,in, deg, , ,, , ,, grid, , , ,
Point28,xy, , ,in, deg, , ,, , ,, grid, , , ,
Point29,xy, , ,in, deg, , ,, , ,, grid, , , ,
Point30,xy, , ,in, deg, , ,, , ,, grid, , , ,
Projection Setup,,,,,,,,,,
Map Feature = MF ; Map Comment = MC These follow if they exist
Track File = TF These follow if they exist
Moving Map Parameters = MM? These follow if they exist
MM0,Yes
MMPNUM,4
MMPXY,1,0,0
MMPXY,2,3940,1
MMPXY,3,3894,3123
MMPXY,4,2,3090
MMPLL,1, -45.055409, -17.918528
MMPLL,2, -41.914591, -17.895252
MMPLL,3, -41.915013, -20.281769
MMPLL,4, -45.065359, -20.281522
MM1B,84.513452
MOP,Map Open Position,0,0
IWH,Map Image Width/Height,2500,1395
