OziExplorer Map Data File Version 2.2
E23B-Uberaba.png
se23-3.png
1 ,Map Code,
Pulkovo 1942 (1),, 0.0000, 0.0000,WGS 84
Reserved 1
Reserved 2
Magnetic Variation,,,E
Map Projection,Latitude/Longitude,PolyCal,Yes,AutoCalOnly,No,BSBUseWPX,No
Point01,xy, 71, 116,in, deg, 18, 0.0000,S, 48, 0.0000,W, grid, , , ,
Point02,xy, 1950, 108,in, deg, 18, 0.0000,S, 46, 30.0000,W, grid, , , ,
Point03,xy, 3826, 109,in, deg, 18, 0.0000,S, 45, 0.0000,W, grid, , , ,
Point04,xy, 90, 1423,in, deg, 19, 0.0000,S, 48, 0.0000,W, grid, , , ,
Point05,xy, 1957, 1416,in, deg, 19, 0.0000,S, 46, 30.0000,W, grid, , , ,
Point06,xy, 3820, 1420,in, deg, 19, 0.0000,S, 45, 0.0000,W, grid, , , ,
Point07,xy, 104, 2732,in, deg, 20, 0.0000,S, 48, 0.0000,W, grid, , , ,
Point08,xy, 1961, 2725,in, deg, 20, 0.0000,S, 46, 30.0000,W, grid, , , ,
Point09,xy, 3818, 2721,in, deg, 20, 0.0000,S, 45, 0.0000,W, grid, , , ,
Point10,xy, , ,in, deg, , ,, , ,, grid, , , ,
Point11,xy, , ,in, deg, , ,, , ,, grid, , , ,
Point12,xy, , ,in, deg, , ,, , ,, grid, , , ,
Point13,xy, , ,in, deg, , ,, , ,, grid, , , ,
Point14,xy, , ,in, deg, , ,, , ,, grid, , , ,
Point15,xy, , ,in, deg, , ,, , ,, grid, , , ,
Point16,xy, , ,in, deg, , ,, , ,, grid, , , ,
Point17,xy, , ,in, deg, , ,, , ,, grid, , , ,
Point18,xy, , ,in, deg, , ,, , ,, grid, , , ,
Point19,xy, , ,in, deg, , ,, , ,, grid, , , ,
Point20,xy, , ,in, deg, , ,, , ,, grid, , , ,
Point21,xy, , ,in, deg, , ,, , ,, grid, , , ,
Point22,xy, , ,in, deg, , ,, , ,, grid, , , ,
Point23,xy, , ,in, deg, , ,, , ,, grid, , , ,
Point24,xy, , ,in, deg, , ,, , ,, grid, , , ,
Point25,xy, , ,in, deg, , ,, , ,, grid, , , ,
Point26,xy, , ,in, deg, , ,, , ,, grid, , , ,
Point27,xy, , ,in, deg, , ,, , ,, grid, , , ,
Point28,xy, , ,in, deg, , ,, , ,, grid, , , ,
Point29,xy, , ,in, deg, , ,, , ,, grid, , , ,
Point30,xy, , ,in, deg, , ,, , ,, grid, , , ,
Projection Setup,,,,,,,,,,
Map Feature = MF ; Map Comment = MC These follow if they exist
Track File = TF These follow if they exist
Moving Map Parameters = MM? These follow if they exist
MM0,Yes
MMPNUM,4
MMPXY,1,0,0
MMPXY,2,3899,0
MMPXY,3,3888,3076
MMPXY,4,1,3086
MMPLL,1, -48.056099, -17.912154
MMPLL,2, -44.941288, -17.915970
MMPLL,3, -44.941089, -20.270815
MMPLL,4, -48.086765, -20.270697
MM1B,84.413037
MOP,Map Open Position,0,0
IWH,Map Image Width/Height,2500,1395
