OziExplorer Map Data File Version 2.2
E23-b-MontisCherus.png
se23-2.png
1 ,Map Code,
Pulkovo 1942 (1),, 0.0000, 0.0000,WGS 84
Reserved 1
Reserved 2
Magnetic Variation,,,E
Map Projection,Latitude/Longitude,PolyCal,Yes,AutoCalOnly,No,BSBUseWPX,No
Point01,xy, 73, 121,in, deg, 16, 0.0000,S, 45, 0.0000,W, grid, , , ,
Point02,xy, 1971, 129,in, deg, 16, 0.0000,S, 43, 30.0000,W, grid, , , ,
Point03,xy, 3869, 143,in, deg, 16, 0.0000,S, 42, 0.0000,W, grid, , , ,
Point04,xy, 80, 1862,in, deg, 17, 0.0000,S, 45, 0.0000,W, grid, , , ,
Point05,xy, 1961, 1870,in, deg, 17, 0.0000,S, 43, 30.0000,W, grid, , , ,
Point06,xy, 3848, 1889,in, deg, 17, 0.0000,S, 42, 0.0000,W, grid, , , ,
Point07,xy, 84, 2733,in, deg, 18, 0.0000,S, 45, 0.0000,W, grid, , , ,
Point08,xy, 1957, 2740,in, deg, 18, 0.0000,S, 43, 30.0000,W, grid, , , ,
Point09,xy, 3835, 2758,in, deg, 18, 0.0000,S, 42, 0.0000,W, grid, , , ,
Point10,xy, , ,in, deg, , ,, , ,, grid, , , ,
Point11,xy, , ,in, deg, , ,, , ,, grid, , , ,
Point12,xy, , ,in, deg, , ,, , ,, grid, , , ,
Point13,xy, , ,in, deg, , ,, , ,, grid, , , ,
Point14,xy, , ,in, deg, , ,, , ,, grid, , , ,
Point15,xy, , ,in, deg, , ,, , ,, grid, , , ,
Point16,xy, , ,in, deg, , ,, , ,, grid, , , ,
Point17,xy, , ,in, deg, , ,, , ,, grid, , , ,
Point18,xy, , ,in, deg, , ,, , ,, grid, , , ,
Point19,xy, , ,in, deg, , ,, , ,, grid, , , ,
Point20,xy, , ,in, deg, , ,, , ,, grid, , , ,
Point21,xy, , ,in, deg, , ,, , ,, grid, , , ,
Point22,xy, , ,in, deg, , ,, , ,, grid, , , ,
Point23,xy, , ,in, deg, , ,, , ,, grid, , , ,
Point24,xy, , ,in, deg, , ,, , ,, grid, , , ,
Point25,xy, , ,in, deg, , ,, , ,, grid, , , ,
Point26,xy, , ,in, deg, , ,, , ,, grid, , , ,
Point27,xy, , ,in, deg, , ,, , ,, grid, , , ,
Point28,xy, , ,in, deg, , ,, , ,, grid, , , ,
Point29,xy, , ,in, deg, , ,, , ,, grid, , , ,
Point30,xy, , ,in, deg, , ,, , ,, grid, , , ,
Projection Setup,,,,,,,,,,
Map Feature = MF ; Map Comment = MC These follow if they exist
Track File = TF These follow if they exist
Moving Map Parameters = MM? These follow if they exist
MM0,Yes
MMPNUM,4
MMPXY,1,0,0
MMPXY,2,3972,0
MMPXY,3,3938,2593
MMPXY,4,0,2566
MMPLL,1, -45.058613, -15.979036
MMPLL,2, -41.920002, -15.976034
MMPLL,3, -41.919580, -17.730114
MMPLL,4, -45.066586, -17.730516
MM1B,84.727151
MOP,Map Open Position,0,0
IWH,Map Image Width/Height,2500,1395
