OziExplorer Map Data File Version 2.2
E23A-Parakuta.png
se23-1.png
1 ,Map Code,
Pulkovo 1942 (1),, 0.0000, 0.0000,WGS 84
Reserved 1
Reserved 2
Magnetic Variation,,,E
Map Projection,Latitude/Longitude,PolyCal,Yes,AutoCalOnly,No,BSBUseWPX,No
Point01,xy, 74, 117,in, deg, 16, 0.0000,S, 48, 0.0000,W, grid, , , ,
Point02,xy, 1975, 122,in, deg, 16, 0.0000,S, 46, 30.0000,W, grid, , , ,
Point03,xy, 3872, 144,in, deg, 16, 0.0000,S, 45, 0.0000,W, grid, , , ,
Point04,xy, 84, 1425,in, deg, 17, 0.0000,S, 48, 0.0000,W, grid, , , ,
Point05,xy, 1971, 1429,in, deg, 17, 0.0000,S, 46, 30.0000,W, grid, , , ,
Point06,xy, 3858, 1444,in, deg, 17, 0.0000,S, 45, 0.0000,W, grid, , , ,
Point07,xy, 92, 2731,in, deg, 18, 0.0000,S, 48, 0.0000,W, grid, , , ,
Point08,xy, 1965, 2729,in, deg, 18, 0.0000,S, 46, 30.0000,W, grid, , , ,
Point09,xy, 3841, 2751,in, deg, 18, 0.0000,S, 45, 0.0000,W, grid, , , ,
Point10,xy, , ,in, deg, , ,, , ,, grid, , , ,
Point11,xy, , ,in, deg, , ,, , ,, grid, , , ,
Point12,xy, , ,in, deg, , ,, , ,, grid, , , ,
Point13,xy, , ,in, deg, , ,, , ,, grid, , , ,
Point14,xy, , ,in, deg, , ,, , ,, grid, , , ,
Point15,xy, , ,in, deg, , ,, , ,, grid, , , ,
Point16,xy, , ,in, deg, , ,, , ,, grid, , , ,
Point17,xy, , ,in, deg, , ,, , ,, grid, , , ,
Point18,xy, , ,in, deg, , ,, , ,, grid, , , ,
Point19,xy, , ,in, deg, , ,, , ,, grid, , , ,
Point20,xy, , ,in, deg, , ,, , ,, grid, , , ,
Point21,xy, , ,in, deg, , ,, , ,, grid, , , ,
Point22,xy, , ,in, deg, , ,, , ,, grid, , , ,
Point23,xy, , ,in, deg, , ,, , ,, grid, , , ,
Point24,xy, , ,in, deg, , ,, , ,, grid, , , ,
Point25,xy, , ,in, deg, , ,, , ,, grid, , , ,
Point26,xy, , ,in, deg, , ,, , ,, grid, , , ,
Point27,xy, , ,in, deg, , ,, , ,, grid, , , ,
Point28,xy, , ,in, deg, , ,, , ,, grid, , , ,
Point29,xy, , ,in, deg, , ,, , ,, grid, , , ,
Point30,xy, , ,in, deg, , ,, , ,, grid, , , ,
Projection Setup,,,,,,,,,,
Map Feature = MF ; Map Comment = MC These follow if they exist
Track File = TF These follow if they exist
Moving Map Parameters = MM? These follow if they exist
MM0,Yes
MMPNUM,4
MMPXY,1,0,0
MMPXY,2,3973,0
MMPXY,3,3932,3133
MMPXY,4,0,3114
MMPLL,1, -48.058048, -15.909733
MMPLL,2, -44.922011, -15.888846
MMPLL,3, -44.922233, -18.293734
MMPLL,4, -48.074582, -18.293273
MM1B,84.383958
MOP,Map Open Position,0,0
IWH,Map Image Width/Height,2500,1395
