OziExplorer Map Data File Version 2.2
E22r-Uberlandia.png
se22-4.png
1 ,Map Code,
Pulkovo 1942 (1),, 0.0000, 0.0000,WGS 84
Reserved 1
Reserved 2
Magnetic Variation,,,E
Map Projection,Latitude/Longitude,PolyCal,Yes,AutoCalOnly,No,BSBUseWPX,No
Point01,xy, 80, 138,in, deg, 18, 0.0000,S, 51, 0.0000,W, grid, , , ,
Point02,xy, 1962, 135,in, deg, 18, 0.0000,S, 49, 30.0000,W, grid, , , ,
Point03,xy, 3840, 144,in, deg, 18, 0.0000,S, 48, 0.0000,W, grid, , , ,
Point04,xy, 90, 1447,in, deg, 19, 0.0000,S, 51, 0.0000,W, grid, , , ,
Point05,xy, 1960, 1446,in, deg, 19, 0.0000,S, 49, 30.0000,W, grid, , , ,
Point06,xy, 3828, 1455,in, deg, 19, 0.0000,S, 48, 0.0000,W, grid, , , ,
Point07,xy, 99, 2755,in, deg, 20, 0.0000,S, 51, 0.0000,W, grid, , , ,
Point08,xy, 1958, 2752,in, deg, 20, 0.0000,S, 49, 30.0000,W, grid, , , ,
Point09,xy, 3815, 2765,in, deg, 20, 0.0000,S, 48, 0.0000,W, grid, , , ,
Point10,xy, , ,in, deg, , ,, , ,, grid, , , ,
Point11,xy, , ,in, deg, , ,, , ,, grid, , , ,
Point12,xy, , ,in, deg, , ,, , ,, grid, , , ,
Point13,xy, , ,in, deg, , ,, , ,, grid, , , ,
Point14,xy, , ,in, deg, , ,, , ,, grid, , , ,
Point15,xy, , ,in, deg, , ,, , ,, grid, , , ,
Point16,xy, , ,in, deg, , ,, , ,, grid, , , ,
Point17,xy, , ,in, deg, , ,, , ,, grid, , , ,
Point18,xy, , ,in, deg, , ,, , ,, grid, , , ,
Point19,xy, , ,in, deg, , ,, , ,, grid, , , ,
Point20,xy, , ,in, deg, , ,, , ,, grid, , , ,
Point21,xy, , ,in, deg, , ,, , ,, grid, , , ,
Point22,xy, , ,in, deg, , ,, , ,, grid, , , ,
Point23,xy, , ,in, deg, , ,, , ,, grid, , , ,
Point24,xy, , ,in, deg, , ,, , ,, grid, , , ,
Point25,xy, , ,in, deg, , ,, , ,, grid, , , ,
Point26,xy, , ,in, deg, , ,, , ,, grid, , , ,
Point27,xy, , ,in, deg, , ,, , ,, grid, , , ,
Point28,xy, , ,in, deg, , ,, , ,, grid, , , ,
Point29,xy, , ,in, deg, , ,, , ,, grid, , , ,
Point30,xy, , ,in, deg, , ,, , ,, grid, , , ,
Projection Setup,,,,,,,,,,
Map Feature = MF ; Map Comment = MC These follow if they exist
Track File = TF These follow if they exist
Moving Map Parameters = MM? These follow if they exist
MM0,Yes
MMPNUM,4
MMPXY,1,0,0
MMPXY,2,3943,0
MMPXY,3,3912,3117
MMPXY,4,0,3106
MMPLL,1, -51.063031, -17.894300
MMPLL,2, -47.918985, -17.889558
MMPLL,3, -47.918436, -20.268877
MMPLL,4, -51.081707, -20.268961
MM1B,84.342708
MOP,Map Open Position,0,0
IWH,Map Image Width/Height,2500,1395
