OziExplorer Map Data File Version 2.2
E22B-Paranaiba.png
se22-3.png
1 ,Map Code,
Pulkovo 1942 (1),, 0.0000, 0.0000,WGS 84
Reserved 1
Reserved 2
Magnetic Variation,,,E
Map Projection,Latitude/Longitude,PolyCal,Yes,AutoCalOnly,No,BSBUseWPX,No
Point01,xy, 73, 129,in, deg, 18, 0.0000,S, 54, 0.0000,W, grid, , , ,
Point02,xy, 1957, 126,in, deg, 18, 0.0000,S, 52, 30.0000,W, grid, , , ,
Point03,xy, 3837, 137,in, deg, 18, 0.0000,S, 51, 0.0000,W, grid, , , ,
Point04,xy, 88, 1437,in, deg, 19, 0.0000,S, 54, 0.0000,W, grid, , , ,
Point05,xy, 1959, 1432,in, deg, 19, 0.0000,S, 52, 30.0000,W, grid, , , ,
Point06,xy, 3828, 1444,in, deg, 19, 0.0000,S, 51, 0.0000,W, grid, , , ,
Point07,xy, 101, 2746,in, deg, 20, 0.0000,S, 54, 0.0000,W, grid, , , ,
Point08,xy, 1956, 2742,in, deg, 20, 0.0000,S, 52, 30.0000,W, grid, , , ,
Point09,xy, 3813, 2751,in, deg, 20, 0.0000,S, 51, 0.0000,W, grid, , , ,
Point10,xy, , ,in, deg, , ,, , ,, grid, , , ,
Point11,xy, , ,in, deg, , ,, , ,, grid, , , ,
Point12,xy, , ,in, deg, , ,, , ,, grid, , , ,
Point13,xy, , ,in, deg, , ,, , ,, grid, , , ,
Point14,xy, , ,in, deg, , ,, , ,, grid, , , ,
Point15,xy, , ,in, deg, , ,, , ,, grid, , , ,
Point16,xy, , ,in, deg, , ,, , ,, grid, , , ,
Point17,xy, , ,in, deg, , ,, , ,, grid, , , ,
Point18,xy, , ,in, deg, , ,, , ,, grid, , , ,
Point19,xy, , ,in, deg, , ,, , ,, grid, , , ,
Point20,xy, , ,in, deg, , ,, , ,, grid, , , ,
Point21,xy, , ,in, deg, , ,, , ,, grid, , , ,
Point22,xy, , ,in, deg, , ,, , ,, grid, , , ,
Point23,xy, , ,in, deg, , ,, , ,, grid, , , ,
Point24,xy, , ,in, deg, , ,, , ,, grid, , , ,
Point25,xy, , ,in, deg, , ,, , ,, grid, , , ,
Point26,xy, , ,in, deg, , ,, , ,, grid, , , ,
Point27,xy, , ,in, deg, , ,, , ,, grid, , , ,
Point28,xy, , ,in, deg, , ,, , ,, grid, , , ,
Point29,xy, , ,in, deg, , ,, , ,, grid, , , ,
Point30,xy, , ,in, deg, , ,, , ,, grid, , , ,
Projection Setup,,,,,,,,,,
Map Feature = MF ; Map Comment = MC These follow if they exist
Track File = TF These follow if they exist
Moving Map Parameters = MM? These follow if they exist
MM0,Yes
MMPNUM,4
MMPXY,1,0,0
MMPXY,2,3930,1
MMPXY,3,3898,3112
MMPXY,4,0,3107
MMPLL,1, -54.056757, -17.900955
MMPLL,2, -50.927174, -17.894949
MMPLL,3, -50.927072, -20.274865
MMPLL,4, -54.082896, -20.274788
MM1B,84.194709
MOP,Map Open Position,0,0
IWH,Map Image Width/Height,2500,1395
