OziExplorer Map Data File Version 2.2
E22-b-Goiania.png
se22-2.png
1 ,Map Code,
Pulkovo 1942 (1),, 0.0000, 0.0000,WGS 84
Reserved 1
Reserved 2
Magnetic Variation,,,E
Map Projection,Latitude/Longitude,PolyCal,Yes,AutoCalOnly,No,BSBUseWPX,No
Point01,xy, 73, 116,in, deg, 16, 0.0000,S, 51, 0.0000,W, grid, , , ,
Point02,xy, 1972, 110,in, deg, 16, 0.0000,S, 49, 30.0000,W, grid, , , ,
Point03,xy, 3869, 112,in, deg, 16, 0.0000,S, 48, 0.0000,W, grid, , , ,
Point04,xy, 86, 1423,in, deg, 17, 0.0000,S, 51, 0.0000,W, grid, , , ,
Point05,xy, 1977, 1421,in, deg, 17, 0.0000,S, 49, 30.0000,W, grid, , , ,
Point06,xy, 3867, 1422,in, deg, 17, 0.0000,S, 48, 0.0000,W, grid, , , ,
Point07,xy, 100, 2730,in, deg, 18, 0.0000,S, 51, 0.0000,W, grid, , , ,
Point08,xy, 1980, 2725,in, deg, 18, 0.0000,S, 49, 30.0000,W, grid, , , ,
Point09,xy, 3859, 2730,in, deg, 18, 0.0000,S, 48, 0.0000,W, grid, , , ,
Point10,xy, , ,in, deg, , ,, , ,, grid, , , ,
Point11,xy, , ,in, deg, , ,, , ,, grid, , , ,
Point12,xy, , ,in, deg, , ,, , ,, grid, , , ,
Point13,xy, , ,in, deg, , ,, , ,, grid, , , ,
Point14,xy, , ,in, deg, , ,, , ,, grid, , , ,
Point15,xy, , ,in, deg, , ,, , ,, grid, , , ,
Point16,xy, , ,in, deg, , ,, , ,, grid, , , ,
Point17,xy, , ,in, deg, , ,, , ,, grid, , , ,
Point18,xy, , ,in, deg, , ,, , ,, grid, , , ,
Point19,xy, , ,in, deg, , ,, , ,, grid, , , ,
Point20,xy, , ,in, deg, , ,, , ,, grid, , , ,
Point21,xy, , ,in, deg, , ,, , ,, grid, , , ,
Point22,xy, , ,in, deg, , ,, , ,, grid, , , ,
Point23,xy, , ,in, deg, , ,, , ,, grid, , , ,
Point24,xy, , ,in, deg, , ,, , ,, grid, , , ,
Point25,xy, , ,in, deg, , ,, , ,, grid, , , ,
Point26,xy, , ,in, deg, , ,, , ,, grid, , , ,
Point27,xy, , ,in, deg, , ,, , ,, grid, , , ,
Point28,xy, , ,in, deg, , ,, , ,, grid, , , ,
Point29,xy, , ,in, deg, , ,, , ,, grid, , , ,
Point30,xy, , ,in, deg, , ,, , ,, grid, , , ,
Projection Setup,,,,,,,,,,
Map Feature = MF ; Map Comment = MC These follow if they exist
Track File = TF These follow if they exist
Moving Map Parameters = MM? These follow if they exist
MM0,Yes
MMPNUM,4
MMPXY,1,0,0
MMPXY,2,3949,0
MMPXY,3,3936,3073
MMPXY,4,0,3072
MMPLL,1, -51.056128, -15.911444
MMPLL,2, -47.937504, -15.914466
MMPLL,3, -47.937242, -18.262759
MMPLL,4, -51.081578, -18.262612
MM1B,84.469003
MOP,Map Open Position,0,0
IWH,Map Image Width/Height,2500,1395
