OziExplorer Map Data File Version 2.2
E22A-AltuAraguaja.png
se22-1.png
1 ,Map Code,
Pulkovo 1942 (1),, 0.0000, 0.0000,WGS 84
Reserved 1
Reserved 2
Magnetic Variation,,,E
Map Projection,Latitude/Longitude,PolyCal,Yes,AutoCalOnly,No,BSBUseWPX,No
Point01,xy, 67, 136,in, deg, 16, 0.0000,S, 54, 0.0000,W, grid, , , ,
Point02,xy, 1967, 150,in, deg, 16, 0.0000,S, 52, 30.0000,W, grid, , , ,
Point03,xy, 3866, 170,in, deg, 16, 0.0000,S, 51, 0.0000,W, grid, , , ,
Point04,xy, 69, 1443,in, deg, 17, 0.0000,S, 54, 0.0000,W, grid, , , ,
Point05,xy, 1958, 1455,in, deg, 17, 0.0000,S, 52, 30.0000,W, grid, , , ,
Point06,xy, 3844, 1474,in, deg, 17, 0.0000,S, 51, 0.0000,W, grid, , , ,
Point07,xy, 72, 2748,in, deg, 18, 0.0000,S, 54, 0.0000,W, grid, , , ,
Point08,xy, 1946, 2760,in, deg, 18, 0.0000,S, 52, 30.0000,W, grid, , , ,
Point09,xy, 3822, 2781,in, deg, 18, 0.0000,S, 51, 0.0000,W, grid, , , ,
Point10,xy, , ,in, deg, , ,, , ,, grid, , , ,
Point11,xy, , ,in, deg, , ,, , ,, grid, , , ,
Point12,xy, , ,in, deg, , ,, , ,, grid, , , ,
Point13,xy, , ,in, deg, , ,, , ,, grid, , , ,
Point14,xy, , ,in, deg, , ,, , ,, grid, , , ,
Point15,xy, , ,in, deg, , ,, , ,, grid, , , ,
Point16,xy, , ,in, deg, , ,, , ,, grid, , , ,
Point17,xy, , ,in, deg, , ,, , ,, grid, , , ,
Point18,xy, , ,in, deg, , ,, , ,, grid, , , ,
Point19,xy, , ,in, deg, , ,, , ,, grid, , , ,
Point20,xy, , ,in, deg, , ,, , ,, grid, , , ,
Point21,xy, , ,in, deg, , ,, , ,, grid, , , ,
Point22,xy, , ,in, deg, , ,, , ,, grid, , , ,
Point23,xy, , ,in, deg, , ,, , ,, grid, , , ,
Point24,xy, , ,in, deg, , ,, , ,, grid, , , ,
Point25,xy, , ,in, deg, , ,, , ,, grid, , , ,
Point26,xy, , ,in, deg, , ,, , ,, grid, , , ,
Point27,xy, , ,in, deg, , ,, , ,, grid, , , ,
Point28,xy, , ,in, deg, , ,, , ,, grid, , , ,
Point29,xy, , ,in, deg, , ,, , ,, grid, , , ,
Point30,xy, , ,in, deg, , ,, , ,, grid, , , ,
Projection Setup,,,,,,,,,,
Map Feature = MF ; Map Comment = MC These follow if they exist
Track File = TF These follow if they exist
Moving Map Parameters = MM? These follow if they exist
MM0,Yes
MMPNUM,4
MMPXY,1,0,0
MMPXY,2,3993,0
MMPXY,3,3937,3163
MMPXY,4,0,3129
MMPLL,1, -54.052587, -15.895574
MMPLL,2, -50.902106, -15.868661
MMPLL,3, -50.902118, -18.291932
MMPLL,4, -54.057611, -18.291846
MM1B,84.348638
MOP,Map Open Position,0,0
IWH,Map Image Width/Height,2500,1395
