OziExplorer Map Data File Version 2.2
E21r-RioWerdiDiMatuGrosu.png
se21-4.png
1 ,Map Code,
Pulkovo 1942 (1),, 0.0000, 0.0000,WGS 84
Reserved 1
Reserved 2
Magnetic Variation,,,E
Map Projection,Latitude/Longitude,PolyCal,Yes,AutoCalOnly,No,BSBUseWPX,No
Point01,xy, 70, 114,in, deg, 18, 0.0000,S, 57, 0.0000,W, grid, , , ,
Point02,xy, 1948, 117,in, deg, 18, 0.0000,S, 55, 30.0000,W, grid, , , ,
Point03,xy, 3821, 133,in, deg, 18, 0.0000,S, 54, 0.0000,W, grid, , , ,
Point04,xy, 77, 1421,in, deg, 19, 0.0000,S, 57, 0.0000,W, grid, , , ,
Point05,xy, 1943, 1425,in, deg, 19, 0.0000,S, 55, 30.0000,W, grid, , , ,
Point06,xy, 3807, 1442,in, deg, 19, 0.0000,S, 54, 0.0000,W, grid, , , ,
Point07,xy, 81, 2726,in, deg, 20, 0.0000,S, 57, 0.0000,W, grid, , , ,
Point08,xy, 1939, 2728,in, deg, 20, 0.0000,S, 55, 30.0000,W, grid, , , ,
Point09,xy, 3793, 2748,in, deg, 20, 0.0000,S, 54, 0.0000,W, grid, , , ,
Point10,xy, , ,in, deg, , ,, , ,, grid, , , ,
Point11,xy, , ,in, deg, , ,, , ,, grid, , , ,
Point12,xy, , ,in, deg, , ,, , ,, grid, , , ,
Point13,xy, , ,in, deg, , ,, , ,, grid, , , ,
Point14,xy, , ,in, deg, , ,, , ,, grid, , , ,
Point15,xy, , ,in, deg, , ,, , ,, grid, , , ,
Point16,xy, , ,in, deg, , ,, , ,, grid, , , ,
Point17,xy, , ,in, deg, , ,, , ,, grid, , , ,
Point18,xy, , ,in, deg, , ,, , ,, grid, , , ,
Point19,xy, , ,in, deg, , ,, , ,, grid, , , ,
Point20,xy, , ,in, deg, , ,, , ,, grid, , , ,
Point21,xy, , ,in, deg, , ,, , ,, grid, , , ,
Point22,xy, , ,in, deg, , ,, , ,, grid, , , ,
Point23,xy, , ,in, deg, , ,, , ,, grid, , , ,
Point24,xy, , ,in, deg, , ,, , ,, grid, , , ,
Point25,xy, , ,in, deg, , ,, , ,, grid, , , ,
Point26,xy, , ,in, deg, , ,, , ,, grid, , , ,
Point27,xy, , ,in, deg, , ,, , ,, grid, , , ,
Point28,xy, , ,in, deg, , ,, , ,, grid, , , ,
Point29,xy, , ,in, deg, , ,, , ,, grid, , , ,
Point30,xy, , ,in, deg, , ,, , ,, grid, , , ,
Projection Setup,,,,,,,,,,
Map Feature = MF ; Map Comment = MC These follow if they exist
Track File = TF These follow if they exist
Moving Map Parameters = MM? These follow if they exist
MM0,Yes
MMPNUM,4
MMPXY,1,0,0
MMPXY,2,3920,1
MMPXY,3,3885,3105
MMPXY,4,1,3082
MMPLL,1, -57.055807, -17.912612
MMPLL,2, -53.921764, -17.898029
MMPLL,3, -53.921931, -20.273232
MMPLL,4, -57.065904, -20.273835
MM1B,84.519812
MOP,Map Open Position,0,0
IWH,Map Image Width/Height,2500,1395
