OziExplorer Map Data File Version 2.2
E21B-Korumba.png
se21-3.png
1 ,Map Code,
Pulkovo 1942 (1),, 0.0000, 0.0000,WGS 84
Reserved 1
Reserved 2
Magnetic Variation,,,E
Map Projection,Latitude/Longitude,PolyCal,Yes,AutoCalOnly,No,BSBUseWPX,No
Point01,xy, 79, 110,in, deg, 18, 0.0000,S, 60, 0.0000,W, grid, , , ,
Point02,xy, 1960, 120,in, deg, 18, 0.0000,S, 58, 30.0000,W, grid, , , ,
Point03,xy, 3837, 136,in, deg, 18, 0.0000,S, 57, 0.0000,W, grid, , , ,
Point04,xy, 87, 1418,in, deg, 19, 0.0000,S, 60, 0.0000,W, grid, , , ,
Point05,xy, 1954, 1425,in, deg, 19, 0.0000,S, 58, 30.0000,W, grid, , , ,
Point06,xy, 3821, 1444,in, deg, 19, 0.0000,S, 57, 0.0000,W, grid, , , ,
Point07,xy, 91, 2727,in, deg, 20, 0.0000,S, 60, 0.0000,W, grid, , , ,
Point08,xy, 1950, 2731,in, deg, 20, 0.0000,S, 58, 30.0000,W, grid, , , ,
Point09,xy, 3807, 2749,in, deg, 20, 0.0000,S, 57, 0.0000,W, grid, , , ,
Point10,xy, , ,in, deg, , ,, , ,, grid, , , ,
Point11,xy, , ,in, deg, , ,, , ,, grid, , , ,
Point12,xy, , ,in, deg, , ,, , ,, grid, , , ,
Point13,xy, , ,in, deg, , ,, , ,, grid, , , ,
Point14,xy, , ,in, deg, , ,, , ,, grid, , , ,
Point15,xy, , ,in, deg, , ,, , ,, grid, , , ,
Point16,xy, , ,in, deg, , ,, , ,, grid, , , ,
Point17,xy, , ,in, deg, , ,, , ,, grid, , , ,
Point18,xy, , ,in, deg, , ,, , ,, grid, , , ,
Point19,xy, , ,in, deg, , ,, , ,, grid, , , ,
Point20,xy, , ,in, deg, , ,, , ,, grid, , , ,
Point21,xy, , ,in, deg, , ,, , ,, grid, , , ,
Point22,xy, , ,in, deg, , ,, , ,, grid, , , ,
Point23,xy, , ,in, deg, , ,, , ,, grid, , , ,
Point24,xy, , ,in, deg, , ,, , ,, grid, , , ,
Point25,xy, , ,in, deg, , ,, , ,, grid, , , ,
Point26,xy, , ,in, deg, , ,, , ,, grid, , , ,
Point27,xy, , ,in, deg, , ,, , ,, grid, , , ,
Point28,xy, , ,in, deg, , ,, , ,, grid, , , ,
Point29,xy, , ,in, deg, , ,, , ,, grid, , , ,
Point30,xy, , ,in, deg, , ,, , ,, grid, , , ,
Projection Setup,,,,,,,,,,
Map Feature = MF ; Map Comment = MC These follow if they exist
Track File = TF These follow if they exist
Moving Map Parameters = MM? These follow if they exist
MM0,Yes
MMPNUM,4
MMPXY,1,0,0
MMPXY,2,3952,2
MMPXY,3,3915,3126
MMPXY,4,2,3102
MMPLL,1, -60.063256, -17.915655
MMPLL,2, -56.909258, -17.895429
MMPLL,3, -56.908606, -20.287931
MMPLL,4, -60.073667, -20.287502
MM1B,84.353285
MOP,Map Open Position,0,0
IWH,Map Image Width/Height,2500,1395
