OziExplorer Map Data File Version 2.2
E21-b-Rondonopolis.png
se21-2.png
1 ,Map Code,
Pulkovo 1942 (1),, 0.0000, 0.0000,WGS 84
Reserved 1
Reserved 2
Magnetic Variation,,,E
Map Projection,Latitude/Longitude,PolyCal,Yes,AutoCalOnly,No,BSBUseWPX,No
Point01,xy, 74, 115,in, deg, 16, 0.0000,S, 57, 0.0000,W, grid, , , ,
Point02,xy, 1975, 108,in, deg, 16, 0.0000,S, 55, 30.0000,W, grid, , , ,
Point03,xy, 3870, 115,in, deg, 16, 0.0000,S, 54, 0.0000,W, grid, , , ,
Point04,xy, 87, 1422,in, deg, 17, 0.0000,S, 57, 0.0000,W, grid, , , ,
Point05,xy, 1978, 1416,in, deg, 17, 0.0000,S, 55, 30.0000,W, grid, , , ,
Point06,xy, 3864, 1419,in, deg, 17, 0.0000,S, 54, 0.0000,W, grid, , , ,
Point07,xy, 101, 2731,in, deg, 18, 0.0000,S, 57, 0.0000,W, grid, , , ,
Point08,xy, 1980, 2721,in, deg, 18, 0.0000,S, 55, 30.0000,W, grid, , , ,
Point09,xy, 3854, 2728,in, deg, 18, 0.0000,S, 54, 0.0000,W, grid, , , ,
Point10,xy, , ,in, deg, , ,, , ,, grid, , , ,
Point11,xy, , ,in, deg, , ,, , ,, grid, , , ,
Point12,xy, , ,in, deg, , ,, , ,, grid, , , ,
Point13,xy, , ,in, deg, , ,, , ,, grid, , , ,
Point14,xy, , ,in, deg, , ,, , ,, grid, , , ,
Point15,xy, , ,in, deg, , ,, , ,, grid, , , ,
Point16,xy, , ,in, deg, , ,, , ,, grid, , , ,
Point17,xy, , ,in, deg, , ,, , ,, grid, , , ,
Point18,xy, , ,in, deg, , ,, , ,, grid, , , ,
Point19,xy, , ,in, deg, , ,, , ,, grid, , , ,
Point20,xy, , ,in, deg, , ,, , ,, grid, , , ,
Point21,xy, , ,in, deg, , ,, , ,, grid, , , ,
Point22,xy, , ,in, deg, , ,, , ,, grid, , , ,
Point23,xy, , ,in, deg, , ,, , ,, grid, , , ,
Point24,xy, , ,in, deg, , ,, , ,, grid, , , ,
Point25,xy, , ,in, deg, , ,, , ,, grid, , , ,
Point26,xy, , ,in, deg, , ,, , ,, grid, , , ,
Point27,xy, , ,in, deg, , ,, , ,, grid, , , ,
Point28,xy, , ,in, deg, , ,, , ,, grid, , , ,
Point29,xy, , ,in, deg, , ,, , ,, grid, , , ,
Point30,xy, , ,in, deg, , ,, , ,, grid, , , ,
Projection Setup,,,,,,,,,,
Map Feature = MF ; Map Comment = MC These follow if they exist
Track File = TF These follow if they exist
Moving Map Parameters = MM? These follow if they exist
MM0,Yes
MMPNUM,4
MMPXY,1,0,0
MMPXY,2,3966,0
MMPXY,3,3945,3081
MMPXY,4,0,3085
MMPLL,1, -57.057001, -15.911462
MMPLL,2, -53.924853, -15.911627
MMPLL,3, -53.925157, -18.270138
MMPLL,4, -57.082795, -18.269997
MM1B,84.293732
MOP,Map Open Position,0,0
IWH,Map Image Width/Height,2500,1395
