OziExplorer Map Data File Version 2.2
E21A-Kaseris.png
se21-1.png
1 ,Map Code,
Pulkovo 1942 (1),, 0.0000, 0.0000,WGS 84
Reserved 1
Reserved 2
Magnetic Variation,,,E
Map Projection,Latitude/Longitude,PolyCal,Yes,AutoCalOnly,No,BSBUseWPX,No
Point01,xy, 72, 129,in, deg, 16, 0.0000,S, 60, 0.0000,W, grid, , , ,
Point02,xy, 1970, 124,in, deg, 16, 0.0000,S, 58, 30.0000,W, grid, , , ,
Point03,xy, 3866, 126,in, deg, 16, 0.0000,S, 57, 0.0000,W, grid, , , ,
Point04,xy, 86, 1436,in, deg, 17, 0.0000,S, 60, 0.0000,W, grid, , , ,
Point05,xy, 1975, 1430,in, deg, 17, 0.0000,S, 58, 30.0000,W, grid, , , ,
Point06,xy, 3860, 1428,in, deg, 17, 0.0000,S, 57, 0.0000,W, grid, , , ,
Point07,xy, 99, 2744,in, deg, 18, 0.0000,S, 60, 0.0000,W, grid, , , ,
Point08,xy, 1976, 2735,in, deg, 18, 0.0000,S, 58, 30.0000,W, grid, , , ,
Point09,xy, 3852, 2736,in, deg, 18, 0.0000,S, 57, 0.0000,W, grid, , , ,
Point10,xy, , ,in, deg, , ,, , ,, grid, , , ,
Point11,xy, , ,in, deg, , ,, , ,, grid, , , ,
Point12,xy, , ,in, deg, , ,, , ,, grid, , , ,
Point13,xy, , ,in, deg, , ,, , ,, grid, , , ,
Point14,xy, , ,in, deg, , ,, , ,, grid, , , ,
Point15,xy, , ,in, deg, , ,, , ,, grid, , , ,
Point16,xy, , ,in, deg, , ,, , ,, grid, , , ,
Point17,xy, , ,in, deg, , ,, , ,, grid, , , ,
Point18,xy, , ,in, deg, , ,, , ,, grid, , , ,
Point19,xy, , ,in, deg, , ,, , ,, grid, , , ,
Point20,xy, , ,in, deg, , ,, , ,, grid, , , ,
Point21,xy, , ,in, deg, , ,, , ,, grid, , , ,
Point22,xy, , ,in, deg, , ,, , ,, grid, , , ,
Point23,xy, , ,in, deg, , ,, , ,, grid, , , ,
Point24,xy, , ,in, deg, , ,, , ,, grid, , , ,
Point25,xy, , ,in, deg, , ,, , ,, grid, , , ,
Point26,xy, , ,in, deg, , ,, , ,, grid, , , ,
Point27,xy, , ,in, deg, , ,, , ,, grid, , , ,
Point28,xy, , ,in, deg, , ,, , ,, grid, , , ,
Point29,xy, , ,in, deg, , ,, , ,, grid, , , ,
Point30,xy, , ,in, deg, , ,, , ,, grid, , , ,
Projection Setup,,,,,,,,,,
Map Feature = MF ; Map Comment = MC These follow if they exist
Track File = TF These follow if they exist
Moving Map Parameters = MM? These follow if they exist
MM0,Yes
MMPNUM,4
MMPXY,1,0,1
MMPXY,2,3954,0
MMPXY,3,3936,3091
MMPXY,4,0,3101
MMPLL,1, -60.055483, -15.901355
MMPLL,2, -56.930745, -15.903404
MMPLL,3, -56.930436, -18.272226
MMPLL,4, -60.081248, -18.272188
MM1B,84.390548
MOP,Map Open Position,0,0
IWH,Map Image Width/Height,2500,1395
