OziExplorer Map Data File Version 2.2
E20r-Izozog.png
se20-4.png
1 ,Map Code,
Pulkovo 1942 (1),, 0.0000, 0.0000,WGS 84
Reserved 1
Reserved 2
Magnetic Variation,,,E
Map Projection,Latitude/Longitude,PolyCal,Yes,AutoCalOnly,No,BSBUseWPX,No
Point01,xy, 67, 144,in, deg, 18, 0.0000,S, 63, 0.0000,W, grid, , , ,
Point02,xy, 1951, 127,in, deg, 18, 0.0000,S, 61, 30.0000,W, grid, , , ,
Point03,xy, 3831, 123,in, deg, 18, 0.0000,S, 60, 0.0000,W, grid, , , ,
Point04,xy, 89, 1451,in, deg, 19, 0.0000,S, 63, 0.0000,W, grid, , , ,
Point05,xy, 1961, 1436,in, deg, 19, 0.0000,S, 61, 30.0000,W, grid, , , ,
Point06,xy, 3828, 1433,in, deg, 19, 0.0000,S, 60, 0.0000,W, grid, , , ,
Point07,xy, 110, 2758,in, deg, 20, 0.0000,S, 63, 0.0000,W, grid, , , ,
Point08,xy, 1968, 2741,in, deg, 20, 0.0000,S, 61, 30.0000,W, grid, , , ,
Point09,xy, 3825, 2741,in, deg, 20, 0.0000,S, 60, 0.0000,W, grid, , , ,
Point10,xy, , ,in, deg, , ,, , ,, grid, , , ,
Point11,xy, , ,in, deg, , ,, , ,, grid, , , ,
Point12,xy, , ,in, deg, , ,, , ,, grid, , , ,
Point13,xy, , ,in, deg, , ,, , ,, grid, , , ,
Point14,xy, , ,in, deg, , ,, , ,, grid, , , ,
Point15,xy, , ,in, deg, , ,, , ,, grid, , , ,
Point16,xy, , ,in, deg, , ,, , ,, grid, , , ,
Point17,xy, , ,in, deg, , ,, , ,, grid, , , ,
Point18,xy, , ,in, deg, , ,, , ,, grid, , , ,
Point19,xy, , ,in, deg, , ,, , ,, grid, , , ,
Point20,xy, , ,in, deg, , ,, , ,, grid, , , ,
Point21,xy, , ,in, deg, , ,, , ,, grid, , , ,
Point22,xy, , ,in, deg, , ,, , ,, grid, , , ,
Point23,xy, , ,in, deg, , ,, , ,, grid, , , ,
Point24,xy, , ,in, deg, , ,, , ,, grid, , , ,
Point25,xy, , ,in, deg, , ,, , ,, grid, , , ,
Point26,xy, , ,in, deg, , ,, , ,, grid, , , ,
Point27,xy, , ,in, deg, , ,, , ,, grid, , , ,
Point28,xy, , ,in, deg, , ,, , ,, grid, , , ,
Point29,xy, , ,in, deg, , ,, , ,, grid, , , ,
Point30,xy, , ,in, deg, , ,, , ,, grid, , , ,
Projection Setup,,,,,,,,,,
Map Feature = MF ; Map Comment = MC These follow if they exist
Track File = TF These follow if they exist
Moving Map Parameters = MM? These follow if they exist
MM0,Yes
MMPNUM,4
MMPXY,1,0,1
MMPXY,2,3916,0
MMPXY,3,3907,3101
MMPXY,4,0,3119
MMPLL,1, -63.051444, -17.890091
MMPLL,2, -59.932330, -17.905773
MMPLL,3, -59.932089, -20.275607
MMPLL,4, -63.092985, -20.276200
MM1B,84.207060
MOP,Map Open Position,0,0
IWH,Map Image Width/Height,2500,1395
