OziExplorer Map Data File Version 2.2
E20B-Sure.png
se20-3.png
1 ,Map Code,
Pulkovo 1942 (1),, 0.0000, 0.0000,WGS 84
Reserved 1
Reserved 2
Magnetic Variation,,,E
Map Projection,Latitude/Longitude,PolyCal,Yes,AutoCalOnly,No,BSBUseWPX,No
Point01,xy, 70, 136,in, deg, 18, 0.0000,S, 66, 0.0000,W, grid, , , ,
Point02,xy, 1954, 121,in, deg, 18, 0.0000,S, 64, 30.0000,W, grid, , , ,
Point03,xy, 3828, 119,in, deg, 18, 0.0000,S, 63, 0.0000,W, grid, , , ,
Point04,xy, 90, 1445,in, deg, 19, 0.0000,S, 66, 0.0000,W, grid, , , ,
Point05,xy, 1962, 1429,in, deg, 19, 0.0000,S, 64, 30.0000,W, grid, , , ,
Point06,xy, 3828, 1425,in, deg, 19, 0.0000,S, 63, 0.0000,W, grid, , , ,
Point07,xy, 109, 2751,in, deg, 20, 0.0000,S, 66, 0.0000,W, grid, , , ,
Point08,xy, 1969, 2736,in, deg, 20, 0.0000,S, 64, 30.0000,W, grid, , , ,
Point09,xy, 3827, 2733,in, deg, 20, 0.0000,S, 63, 0.0000,W, grid, , , ,
Point10,xy, , ,in, deg, , ,, , ,, grid, , , ,
Point11,xy, , ,in, deg, , ,, , ,, grid, , , ,
Point12,xy, , ,in, deg, , ,, , ,, grid, , , ,
Point13,xy, , ,in, deg, , ,, , ,, grid, , , ,
Point14,xy, , ,in, deg, , ,, , ,, grid, , , ,
Point15,xy, , ,in, deg, , ,, , ,, grid, , , ,
Point16,xy, , ,in, deg, , ,, , ,, grid, , , ,
Point17,xy, , ,in, deg, , ,, , ,, grid, , , ,
Point18,xy, , ,in, deg, , ,, , ,, grid, , , ,
Point19,xy, , ,in, deg, , ,, , ,, grid, , , ,
Point20,xy, , ,in, deg, , ,, , ,, grid, , , ,
Point21,xy, , ,in, deg, , ,, , ,, grid, , , ,
Point22,xy, , ,in, deg, , ,, , ,, grid, , , ,
Point23,xy, , ,in, deg, , ,, , ,, grid, , , ,
Point24,xy, , ,in, deg, , ,, , ,, grid, , , ,
Point25,xy, , ,in, deg, , ,, , ,, grid, , , ,
Point26,xy, , ,in, deg, , ,, , ,, grid, , , ,
Point27,xy, , ,in, deg, , ,, , ,, grid, , , ,
Point28,xy, , ,in, deg, , ,, , ,, grid, , , ,
Point29,xy, , ,in, deg, , ,, , ,, grid, , , ,
Point30,xy, , ,in, deg, , ,, , ,, grid, , , ,
Projection Setup,,,,,,,,,,
Map Feature = MF ; Map Comment = MC These follow if they exist
Track File = TF These follow if they exist
Moving Map Parameters = MM? These follow if they exist
MM0,Yes
MMPNUM,4
MMPXY,1,0,1
MMPXY,2,3906,0
MMPXY,3,3902,3079
MMPXY,4,0,3099
MMPLL,1, -66.054554, -17.895982
MMPLL,2, -62.938102, -17.909293
MMPLL,3, -62.938162, -20.265043
MMPLL,4, -66.091023, -20.264902
MM1B,84.148241
MOP,Map Open Position,0,0
IWH,Map Image Width/Height,2500,1395
