OziExplorer Map Data File Version 2.2
E20-b-SanJose.png
se20-2.png
1 ,Map Code,
Pulkovo 1942 (1),, 0.0000, 0.0000,WGS 84
Reserved 1
Reserved 2
Magnetic Variation,,,E
Map Projection,Latitude/Longitude,PolyCal,Yes,AutoCalOnly,No,BSBUseWPX,No
Point01,xy, 56, 124,in, deg, 16, 0.0000,S, 63, 0.0000,W, grid, , , ,
Point02,xy, 1960, 119,in, deg, 16, 0.0000,S, 61, 30.0000,W, grid, , , ,
Point03,xy, 3862, 125,in, deg, 16, 0.0000,S, 60, 0.0000,W, grid, , , ,
Point04,xy, 71, 1434,in, deg, 17, 0.0000,S, 63, 0.0000,W, grid, , , ,
Point05,xy, 1963, 1427,in, deg, 17, 0.0000,S, 61, 30.0000,W, grid, , , ,
Point06,xy, 3854, 1433,in, deg, 17, 0.0000,S, 60, 0.0000,W, grid, , , ,
Point07,xy, 83, 2743,in, deg, 18, 0.0000,S, 63, 0.0000,W, grid, , , ,
Point08,xy, 1966, 2734,in, deg, 18, 0.0000,S, 61, 30.0000,W, grid, , , ,
Point09,xy, 3847, 2741,in, deg, 18, 0.0000,S, 60, 0.0000,W, grid, , , ,
Point10,xy, , ,in, deg, , ,, , ,, grid, , , ,
Point11,xy, , ,in, deg, , ,, , ,, grid, , , ,
Point12,xy, , ,in, deg, , ,, , ,, grid, , , ,
Point13,xy, , ,in, deg, , ,, , ,, grid, , , ,
Point14,xy, , ,in, deg, , ,, , ,, grid, , , ,
Point15,xy, , ,in, deg, , ,, , ,, grid, , , ,
Point16,xy, , ,in, deg, , ,, , ,, grid, , , ,
Point17,xy, , ,in, deg, , ,, , ,, grid, , , ,
Point18,xy, , ,in, deg, , ,, , ,, grid, , , ,
Point19,xy, , ,in, deg, , ,, , ,, grid, , , ,
Point20,xy, , ,in, deg, , ,, , ,, grid, , , ,
Point21,xy, , ,in, deg, , ,, , ,, grid, , , ,
Point22,xy, , ,in, deg, , ,, , ,, grid, , , ,
Point23,xy, , ,in, deg, , ,, , ,, grid, , , ,
Point24,xy, , ,in, deg, , ,, , ,, grid, , , ,
Point25,xy, , ,in, deg, , ,, , ,, grid, , , ,
Point26,xy, , ,in, deg, , ,, , ,, grid, , , ,
Point27,xy, , ,in, deg, , ,, , ,, grid, , , ,
Point28,xy, , ,in, deg, , ,, , ,, grid, , , ,
Point29,xy, , ,in, deg, , ,, , ,, grid, , , ,
Point30,xy, , ,in, deg, , ,, , ,, grid, , , ,
Projection Setup,,,,,,,,,,
Map Feature = MF ; Map Comment = MC These follow if they exist
Track File = TF These follow if they exist
Moving Map Parameters = MM? These follow if they exist
MM0,Yes
MMPNUM,4
MMPXY,1,0,0
MMPXY,2,3948,1
MMPXY,3,3929,3117
MMPXY,4,1,3120
MMPLL,1, -63.043327, -15.904680
MMPLL,2, -59.932469, -15.904500
MMPLL,3, -59.932346, -18.287699
MMPLL,4, -63.068649, -18.287909
MM1B,84.267588
MOP,Map Open Position,0,0
IWH,Map Image Width/Height,2500,1395
