OziExplorer Map Data File Version 2.2
E20A-SantaCruz.png
se20-1.png
1 ,Map Code,
Pulkovo 1942 (1),, 0.0000, 0.0000,WGS 84
Reserved 1
Reserved 2
Magnetic Variation,,,E
Map Projection,Latitude/Longitude,PolyCal,Yes,AutoCalOnly,No,BSBUseWPX,No
Point01,xy, 71, 114,in, deg, 16, 0.0000,S, 66, 0.0000,W, grid, , , ,
Point02,xy, 1970, 122,in, deg, 16, 0.0000,S, 64, 30.0000,W, grid, , , ,
Point03,xy, 3868, 137,in, deg, 16, 0.0000,S, 63, 0.0000,W, grid, , , ,
Point04,xy, 77, 1427,in, deg, 17, 0.0000,S, 66, 0.0000,W, grid, , , ,
Point05,xy, 1967, 1429,in, deg, 17, 0.0000,S, 64, 30.0000,W, grid, , , ,
Point06,xy, 3855, 1445,in, deg, 17, 0.0000,S, 63, 0.0000,W, grid, , , ,
Point07,xy, 82, 2737,in, deg, 18, 0.0000,S, 66, 0.0000,W, grid, , , ,
Point08,xy, 1965, 2738,in, deg, 18, 0.0000,S, 64, 30.0000,W, grid, , , ,
Point09,xy, 3843, 2751,in, deg, 18, 0.0000,S, 63, 0.0000,W, grid, , , ,
Point10,xy, , ,in, deg, , ,, , ,, grid, , , ,
Point11,xy, , ,in, deg, , ,, , ,, grid, , , ,
Point12,xy, , ,in, deg, , ,, , ,, grid, , , ,
Point13,xy, , ,in, deg, , ,, , ,, grid, , , ,
Point14,xy, , ,in, deg, , ,, , ,, grid, , , ,
Point15,xy, , ,in, deg, , ,, , ,, grid, , , ,
Point16,xy, , ,in, deg, , ,, , ,, grid, , , ,
Point17,xy, , ,in, deg, , ,, , ,, grid, , , ,
Point18,xy, , ,in, deg, , ,, , ,, grid, , , ,
Point19,xy, , ,in, deg, , ,, , ,, grid, , , ,
Point20,xy, , ,in, deg, , ,, , ,, grid, , , ,
Point21,xy, , ,in, deg, , ,, , ,, grid, , , ,
Point22,xy, , ,in, deg, , ,, , ,, grid, , , ,
Point23,xy, , ,in, deg, , ,, , ,, grid, , , ,
Point24,xy, , ,in, deg, , ,, , ,, grid, , , ,
Point25,xy, , ,in, deg, , ,, , ,, grid, , , ,
Point26,xy, , ,in, deg, , ,, , ,, grid, , , ,
Point27,xy, , ,in, deg, , ,, , ,, grid, , , ,
Point28,xy, , ,in, deg, , ,, , ,, grid, , , ,
Point29,xy, , ,in, deg, , ,, , ,, grid, , , ,
Point30,xy, , ,in, deg, , ,, , ,, grid, , , ,
Projection Setup,,,,,,,,,,
Map Feature = MF ; Map Comment = MC These follow if they exist
Track File = TF These follow if they exist
Moving Map Parameters = MM? These follow if they exist
MM0,Yes
MMPNUM,4
MMPXY,1,0,0
MMPXY,2,3974,1
MMPXY,3,3944,3114
MMPXY,4,1,3100
MMPLL,1, -66.055533, -15.912558
MMPLL,2, -62.916855, -15.894576
MMPLL,3, -62.916765, -18.277510
MMPLL,4, -66.066424, -18.277007
MM1B,84.329766
MOP,Map Open Position,0,0
IWH,Map Image Width/Height,2500,1395
