OziExplorer Map Data File Version 2.2
E19r-Poopo.png
se19-4.png
1 ,Map Code,
Pulkovo 1942 (1),, 0.0000, 0.0000,WGS 84
Reserved 1
Reserved 2
Magnetic Variation,,,E
Map Projection,Latitude/Longitude,PolyCal,Yes,AutoCalOnly,No,BSBUseWPX,No
Point01,xy, 70, 124,in, deg, 18, 0.0000,S, 69, 0.0000,W, grid, , , ,
Point02,xy, 1948, 113,in, deg, 18, 0.0000,S, 67, 30.0000,W, grid, , , ,
Point03,xy, 3828, 110,in, deg, 18, 0.0000,S, 66, 0.0000,W, grid, , , ,
Point04,xy, 91, 1432,in, deg, 19, 0.0000,S, 69, 0.0000,W, grid, , , ,
Point05,xy, 1959, 1421,in, deg, 19, 0.0000,S, 67, 30.0000,W, grid, , , ,
Point06,xy, 3827, 1418,in, deg, 19, 0.0000,S, 66, 0.0000,W, grid, , , ,
Point07,xy, 110, 2742,in, deg, 20, 0.0000,S, 69, 0.0000,W, grid, , , ,
Point08,xy, 1963, 2728,in, deg, 20, 0.0000,S, 67, 30.0000,W, grid, , , ,
Point09,xy, 3823, 2730,in, deg, 20, 0.0000,S, 66, 0.0000,W, grid, , , ,
Point10,xy, , ,in, deg, , ,, , ,, grid, , , ,
Point11,xy, , ,in, deg, , ,, , ,, grid, , , ,
Point12,xy, , ,in, deg, , ,, , ,, grid, , , ,
Point13,xy, , ,in, deg, , ,, , ,, grid, , , ,
Point14,xy, , ,in, deg, , ,, , ,, grid, , , ,
Point15,xy, , ,in, deg, , ,, , ,, grid, , , ,
Point16,xy, , ,in, deg, , ,, , ,, grid, , , ,
Point17,xy, , ,in, deg, , ,, , ,, grid, , , ,
Point18,xy, , ,in, deg, , ,, , ,, grid, , , ,
Point19,xy, , ,in, deg, , ,, , ,, grid, , , ,
Point20,xy, , ,in, deg, , ,, , ,, grid, , , ,
Point21,xy, , ,in, deg, , ,, , ,, grid, , , ,
Point22,xy, , ,in, deg, , ,, , ,, grid, , , ,
Point23,xy, , ,in, deg, , ,, , ,, grid, , , ,
Point24,xy, , ,in, deg, , ,, , ,, grid, , , ,
Point25,xy, , ,in, deg, , ,, , ,, grid, , , ,
Point26,xy, , ,in, deg, , ,, , ,, grid, , , ,
Point27,xy, , ,in, deg, , ,, , ,, grid, , , ,
Point28,xy, , ,in, deg, , ,, , ,, grid, , , ,
Point29,xy, , ,in, deg, , ,, , ,, grid, , , ,
Point30,xy, , ,in, deg, , ,, , ,, grid, , , ,
Projection Setup,,,,,,,,,,
Map Feature = MF ; Map Comment = MC These follow if they exist
Track File = TF These follow if they exist
Moving Map Parameters = MM? These follow if they exist
MM0,Yes
MMPNUM,4
MMPXY,1,0,1
MMPXY,2,3908,0
MMPXY,3,3901,2802
MMPXY,4,0,2816
MMPLL,1, -69.054197, -17.904894
MMPLL,2, -65.936390, -17.915544
MMPLL,3, -65.936278, -20.055569
MMPLL,4, -69.089149, -20.056261
MM1B,84.622693
MOP,Map Open Position,0,0
IWH,Map Image Width/Height,2500,1395
