OziExplorer Map Data File Version 2.2
E19B-Arica.png
se19-3.png
1 ,Map Code,
Pulkovo 1942 (1),, 0.0000, 0.0000,WGS 84
Reserved 1
Reserved 2
Magnetic Variation,,,E
Map Projection,Latitude/Longitude,PolyCal,Yes,AutoCalOnly,No,BSBUseWPX,No
Point01,xy, 84, 109,in, deg, 18, 0.0000,S, 72, 0.0000,W, grid, , , ,
Point02,xy, 1961, 111,in, deg, 18, 0.0000,S, 70, 30.0000,W, grid, , , ,
Point03,xy, 3839, 119,in, deg, 18, 0.0000,S, 69, 0.0000,W, grid, , , ,
Point04,xy, 93, 1420,in, deg, 19, 0.0000,S, 72, 0.0000,W, grid, , , ,
Point05,xy, 1961, 1418,in, deg, 19, 0.0000,S, 70, 30.0000,W, grid, , , ,
Point06,xy, 3827, 1430,in, deg, 19, 0.0000,S, 69, 0.0000,W, grid, , , ,
Point07,xy, 102, 2728,in, deg, 20, 0.0000,S, 72, 0.0000,W, grid, , , ,
Point08,xy, 1960, 2725,in, deg, 20, 0.0000,S, 70, 30.0000,W, grid, , , ,
Point09,xy, 3815, 2738,in, deg, 20, 0.0000,S, 69, 0.0000,W, grid, , , ,
Point10,xy, , ,in, deg, , ,, , ,, grid, , , ,
Point11,xy, , ,in, deg, , ,, , ,, grid, , , ,
Point12,xy, , ,in, deg, , ,, , ,, grid, , , ,
Point13,xy, , ,in, deg, , ,, , ,, grid, , , ,
Point14,xy, , ,in, deg, , ,, , ,, grid, , , ,
Point15,xy, , ,in, deg, , ,, , ,, grid, , , ,
Point16,xy, , ,in, deg, , ,, , ,, grid, , , ,
Point17,xy, , ,in, deg, , ,, , ,, grid, , , ,
Point18,xy, , ,in, deg, , ,, , ,, grid, , , ,
Point19,xy, , ,in, deg, , ,, , ,, grid, , , ,
Point20,xy, , ,in, deg, , ,, , ,, grid, , , ,
Point21,xy, , ,in, deg, , ,, , ,, grid, , , ,
Point22,xy, , ,in, deg, , ,, , ,, grid, , , ,
Point23,xy, , ,in, deg, , ,, , ,, grid, , , ,
Point24,xy, , ,in, deg, , ,, , ,, grid, , , ,
Point25,xy, , ,in, deg, , ,, , ,, grid, , , ,
Point26,xy, , ,in, deg, , ,, , ,, grid, , , ,
Point27,xy, , ,in, deg, , ,, , ,, grid, , , ,
Point28,xy, , ,in, deg, , ,, , ,, grid, , , ,
Point29,xy, , ,in, deg, , ,, , ,, grid, , , ,
Point30,xy, , ,in, deg, , ,, , ,, grid, , , ,
Projection Setup,,,,,,,,,,
Map Feature = MF ; Map Comment = MC These follow if they exist
Track File = TF These follow if they exist
Moving Map Parameters = MM? These follow if they exist
MM0,Yes
MMPNUM,4
MMPXY,1,0,0
MMPXY,2,3940,2
MMPXY,3,3911,3105
MMPXY,4,0,3094
MMPLL,1, -72.066070, -17.915835
MMPLL,2, -68.919800, -17.909269
MMPLL,3, -68.919740, -20.280729
MMPLL,4, -72.084737, -20.280355
MM1B,84.425279
MOP,Map Open Position,0,0
IWH,Map Image Width/Height,2500,1395
