OziExplorer Map Data File Version 2.2
E19-b-LaPaz.png
se19-2.png
1 ,Map Code,
Pulkovo 1942 (1),, 0.0000, 0.0000,WGS 84
Reserved 1
Reserved 2
Magnetic Variation,,,E
Map Projection,Latitude/Longitude,PolyCal,Yes,AutoCalOnly,No,BSBUseWPX,No
Point01,xy, 72, 113,in, deg, 16, 0.0000,S, 69, 0.0000,W, grid, , , ,
Point02,xy, 1972, 120,in, deg, 16, 0.0000,S, 67, 30.0000,W, grid, , , ,
Point03,xy, 3866, 130,in, deg, 16, 0.0000,S, 66, 0.0000,W, grid, , , ,
Point04,xy, 81, 1425,in, deg, 17, 0.0000,S, 69, 0.0000,W, grid, , , ,
Point05,xy, 1970, 1427,in, deg, 17, 0.0000,S, 67, 30.0000,W, grid, , , ,
Point06,xy, 3857, 1439,in, deg, 17, 0.0000,S, 66, 0.0000,W, grid, , , ,
Point07,xy, 88, 2733,in, deg, 18, 0.0000,S, 69, 0.0000,W, grid, , , ,
Point08,xy, 1966, 2733,in, deg, 18, 0.0000,S, 67, 30.0000,W, grid, , , ,
Point09,xy, 3845, 2749,in, deg, 18, 0.0000,S, 66, 0.0000,W, grid, , , ,
Point10,xy, , ,in, deg, , ,, , ,, grid, , , ,
Point11,xy, , ,in, deg, , ,, , ,, grid, , , ,
Point12,xy, , ,in, deg, , ,, , ,, grid, , , ,
Point13,xy, , ,in, deg, , ,, , ,, grid, , , ,
Point14,xy, , ,in, deg, , ,, , ,, grid, , , ,
Point15,xy, , ,in, deg, , ,, , ,, grid, , , ,
Point16,xy, , ,in, deg, , ,, , ,, grid, , , ,
Point17,xy, , ,in, deg, , ,, , ,, grid, , , ,
Point18,xy, , ,in, deg, , ,, , ,, grid, , , ,
Point19,xy, , ,in, deg, , ,, , ,, grid, , , ,
Point20,xy, , ,in, deg, , ,, , ,, grid, , , ,
Point21,xy, , ,in, deg, , ,, , ,, grid, , , ,
Point22,xy, , ,in, deg, , ,, , ,, grid, , , ,
Point23,xy, , ,in, deg, , ,, , ,, grid, , , ,
Point24,xy, , ,in, deg, , ,, , ,, grid, , , ,
Point25,xy, , ,in, deg, , ,, , ,, grid, , , ,
Point26,xy, , ,in, deg, , ,, , ,, grid, , , ,
Point27,xy, , ,in, deg, , ,, , ,, grid, , , ,
Point28,xy, , ,in, deg, , ,, , ,, grid, , , ,
Point29,xy, , ,in, deg, , ,, , ,, grid, , , ,
Point30,xy, , ,in, deg, , ,, , ,, grid, , , ,
Projection Setup,,,,,,,,,,
Map Feature = MF ; Map Comment = MC These follow if they exist
Track File = TF These follow if they exist
Moving Map Parameters = MM? These follow if they exist
MM0,Yes
MMPNUM,4
MMPXY,1,0,0
MMPXY,2,3961,1
MMPXY,3,3936,2824
MMPXY,4,0,2808
MMPLL,1, -69.056571, -15.912545
MMPLL,2, -65.926057, -15.900305
MMPLL,3, -65.926224, -18.057850
MMPLL,4, -69.069918, -18.057765
MM1B,84.496164
MOP,Map Open Position,0,0
IWH,Map Image Width/Height,2500,1395
