OziExplorer Map Data File Version 2.2
E19A-Areqipa.png
se19-1.png
1 ,Map Code,
Pulkovo 1942 (1),, 0.0000, 0.0000,WGS 84
Reserved 1
Reserved 2
Magnetic Variation,,,E
Map Projection,Latitude/Longitude,PolyCal,Yes,AutoCalOnly,No,BSBUseWPX,No
Point01,xy, 83, 121,in, deg, 16, 0.0000,S, 72, 0.0000,W, grid, , , ,
Point02,xy, 1985, 133,in, deg, 16, 0.0000,S, 70, 30.0000,W, grid, , , ,
Point03,xy, 3883, 159,in, deg, 16, 0.0000,S, 69, 0.0000,W, grid, , , ,
Point04,xy, 85, 1430,in, deg, 17, 0.0000,S, 72, 0.0000,W, grid, , , ,
Point05,xy, 1975, 1441,in, deg, 17, 0.0000,S, 70, 30.0000,W, grid, , , ,
Point06,xy, 3865, 1467,in, deg, 17, 0.0000,S, 69, 0.0000,W, grid, , , ,
Point07,xy, 83, 2738,in, deg, 18, 0.0000,S, 72, 0.0000,W, grid, , , ,
Point08,xy, 1966, 2747,in, deg, 18, 0.0000,S, 70, 30.0000,W, grid, , , ,
Point09,xy, 3844, 2772,in, deg, 18, 0.0000,S, 69, 0.0000,W, grid, , , ,
Point10,xy, , ,in, deg, , ,, , ,, grid, , , ,
Point11,xy, , ,in, deg, , ,, , ,, grid, , , ,
Point12,xy, , ,in, deg, , ,, , ,, grid, , , ,
Point13,xy, , ,in, deg, , ,, , ,, grid, , , ,
Point14,xy, , ,in, deg, , ,, , ,, grid, , , ,
Point15,xy, , ,in, deg, , ,, , ,, grid, , , ,
Point16,xy, , ,in, deg, , ,, , ,, grid, , , ,
Point17,xy, , ,in, deg, , ,, , ,, grid, , , ,
Point18,xy, , ,in, deg, , ,, , ,, grid, , , ,
Point19,xy, , ,in, deg, , ,, , ,, grid, , , ,
Point20,xy, , ,in, deg, , ,, , ,, grid, , , ,
Point21,xy, , ,in, deg, , ,, , ,, grid, , , ,
Point22,xy, , ,in, deg, , ,, , ,, grid, , , ,
Point23,xy, , ,in, deg, , ,, , ,, grid, , , ,
Point24,xy, , ,in, deg, , ,, , ,, grid, , , ,
Point25,xy, , ,in, deg, , ,, , ,, grid, , , ,
Point26,xy, , ,in, deg, , ,, , ,, grid, , , ,
Point27,xy, , ,in, deg, , ,, , ,, grid, , , ,
Point28,xy, , ,in, deg, , ,, , ,, grid, , , ,
Point29,xy, , ,in, deg, , ,, , ,, grid, , , ,
Point30,xy, , ,in, deg, , ,, , ,, grid, , , ,
Projection Setup,,,,,,,,,,
Map Feature = MF ; Map Comment = MC These follow if they exist
Track File = TF These follow if they exist
Moving Map Parameters = MM? These follow if they exist
MM0,Yes
MMPNUM,4
MMPXY,1,0,0
MMPXY,2,4009,1
MMPXY,3,3960,3175
MMPXY,4,1,3139
MMPLL,1, -72.065432, -15.907794
MMPLL,2, -68.902166, -15.877259
MMPLL,3, -68.902022, -18.307423
MMPLL,4, -72.065196, -18.307345
MM1B,84.241619
MOP,Map Open Position,0,0
IWH,Map Image Width/Height,2500,1395
