OziExplorer Map Data File Version 2.2
E18-b-Mollendo.png
se18-2.png
1 ,Map Code,
Pulkovo 1942 (1),, 0.0000, 0.0000,WGS 84
Reserved 1
Reserved 2
Magnetic Variation,,,E
Map Projection,Latitude/Longitude,PolyCal,Yes,AutoCalOnly,No,BSBUseWPX,No
Point01,xy, 74, 113,in, deg, 16, 0.0000,S, 75, 0.0000,W, grid, , , ,
Point02,xy, 1974, 111,in, deg, 16, 0.0000,S, 73, 30.0000,W, grid, , , ,
Point03,xy, 3877, 125,in, deg, 16, 0.0000,S, 72, 0.0000,W, grid, , , ,
Point04,xy, 84, 1423,in, deg, 17, 0.0000,S, 75, 0.0000,W, grid, , , ,
Point05,xy, 1971, 1423,in, deg, 17, 0.0000,S, 73, 30.0000,W, grid, , , ,
Point06,xy, 3865, 1435,in, deg, 17, 0.0000,S, 72, 0.0000,W, grid, , , ,
Point07,xy, 92, 2729,in, deg, 18, 0.0000,S, 75, 0.0000,W, grid, , , ,
Point08,xy, 1969, 2729,in, deg, 18, 0.0000,S, 73, 30.0000,W, grid, , , ,
Point09,xy, 3851, 2745,in, deg, 18, 0.0000,S, 72, 0.0000,W, grid, , , ,
Point10,xy, , ,in, deg, , ,, , ,, grid, , , ,
Point11,xy, , ,in, deg, , ,, , ,, grid, , , ,
Point12,xy, , ,in, deg, , ,, , ,, grid, , , ,
Point13,xy, , ,in, deg, , ,, , ,, grid, , , ,
Point14,xy, , ,in, deg, , ,, , ,, grid, , , ,
Point15,xy, , ,in, deg, , ,, , ,, grid, , , ,
Point16,xy, , ,in, deg, , ,, , ,, grid, , , ,
Point17,xy, , ,in, deg, , ,, , ,, grid, , , ,
Point18,xy, , ,in, deg, , ,, , ,, grid, , , ,
Point19,xy, , ,in, deg, , ,, , ,, grid, , , ,
Point20,xy, , ,in, deg, , ,, , ,, grid, , , ,
Point21,xy, , ,in, deg, , ,, , ,, grid, , , ,
Point22,xy, , ,in, deg, , ,, , ,, grid, , , ,
Point23,xy, , ,in, deg, , ,, , ,, grid, , , ,
Point24,xy, , ,in, deg, , ,, , ,, grid, , , ,
Point25,xy, , ,in, deg, , ,, , ,, grid, , , ,
Point26,xy, , ,in, deg, , ,, , ,, grid, , , ,
Point27,xy, , ,in, deg, , ,, , ,, grid, , , ,
Point28,xy, , ,in, deg, , ,, , ,, grid, , , ,
Point29,xy, , ,in, deg, , ,, , ,, grid, , , ,
Point30,xy, , ,in, deg, , ,, , ,, grid, , , ,
Projection Setup,,,,,,,,,,
Map Feature = MF ; Map Comment = MC These follow if they exist
Track File = TF These follow if they exist
Moving Map Parameters = MM? These follow if they exist
MM0,Yes
MMPNUM,4
MMPXY,1,0,0
MMPXY,2,3971,0
MMPXY,3,3938,3111
MMPXY,4,0,3094
MMPLL,1, -75.058090, -15.913476
MMPLL,2, -71.927260, -15.904497
MMPLL,3, -71.927451, -18.279777
MMPLL,4, -75.075469, -18.279506
MM1B,84.612150
MOP,Map Open Position,0,0
IWH,Map Image Width/Height,2500,1395
