OziExplorer Map Data File Version 2.2
D24B-Itabuna.png
sd24-3.png
1 ,Map Code,
Pulkovo 1942 (1),, 0.0000, 0.0000,WGS 84
Reserved 1
Reserved 2
Magnetic Variation,,,E
Map Projection,Latitude/Longitude,PolyCal,Yes,AutoCalOnly,No,BSBUseWPX,No
Point01,xy, 78, 115,in, deg, 14, 0.0000,S, 42, 0.0000,W, grid, , , ,
Point02,xy, 1997, 121,in, deg, 14, 0.0000,S, 40, 30.0000,W, grid, , , ,
Point03,xy, 3912, 135,in, deg, 14, 0.0000,S, 39, 0.0000,W, grid, , , ,
Point04,xy, 84, 1422,in, deg, 15, 0.0000,S, 42, 0.0000,W, grid, , , ,
Point05,xy, 1993, 1427,in, deg, 15, 0.0000,S, 40, 30.0000,W, grid, , , ,
Point06,xy, 3903, 1440,in, deg, 15, 0.0000,S, 39, 0.0000,W, grid, , , ,
Point07,xy, 86, 2733,in, deg, 16, 0.0000,S, 42, 0.0000,W, grid, , , ,
Point08,xy, 1989, 2732,in, deg, 16, 0.0000,S, 40, 30.0000,W, grid, , , ,
Point09,xy, 3889, 2745,in, deg, 16, 0.0000,S, 39, 0.0000,W, grid, , , ,
Point10,xy, , ,in, deg, , ,, , ,, grid, , , ,
Point11,xy, , ,in, deg, , ,, , ,, grid, , , ,
Point12,xy, , ,in, deg, , ,, , ,, grid, , , ,
Point13,xy, , ,in, deg, , ,, , ,, grid, , , ,
Point14,xy, , ,in, deg, , ,, , ,, grid, , , ,
Point15,xy, , ,in, deg, , ,, , ,, grid, , , ,
Point16,xy, , ,in, deg, , ,, , ,, grid, , , ,
Point17,xy, , ,in, deg, , ,, , ,, grid, , , ,
Point18,xy, , ,in, deg, , ,, , ,, grid, , , ,
Point19,xy, , ,in, deg, , ,, , ,, grid, , , ,
Point20,xy, , ,in, deg, , ,, , ,, grid, , , ,
Point21,xy, , ,in, deg, , ,, , ,, grid, , , ,
Point22,xy, , ,in, deg, , ,, , ,, grid, , , ,
Point23,xy, , ,in, deg, , ,, , ,, grid, , , ,
Point24,xy, , ,in, deg, , ,, , ,, grid, , , ,
Point25,xy, , ,in, deg, , ,, , ,, grid, , , ,
Point26,xy, , ,in, deg, , ,, , ,, grid, , , ,
Point27,xy, , ,in, deg, , ,, , ,, grid, , , ,
Point28,xy, , ,in, deg, , ,, , ,, grid, , , ,
Point29,xy, , ,in, deg, , ,, , ,, grid, , , ,
Point30,xy, , ,in, deg, , ,, , ,, grid, , , ,
Projection Setup,,,,,,,,,,
Map Feature = MF ; Map Comment = MC These follow if they exist
Track File = TF These follow if they exist
Moving Map Parameters = MM? These follow if they exist
MM0,Yes
MMPNUM,4
MMPXY,1,0,0
MMPXY,2,4013,1
MMPXY,3,3984,3134
MMPXY,4,1,3121
MMPLL,1, -42.060655, -13.912052
MMPLL,2, -38.921936, -13.895854
MMPLL,3, -38.921552, -16.297551
MMPLL,4, -42.067235, -16.296873
MM1B,84.309950
MOP,Map Open Position,0,0
IWH,Map Image Width/Height,2500,1395
