OziExplorer Map Data File Version 2.2
D24-b-Salvador.png
sd24-2.png
1 ,Map Code,
Pulkovo 1942 (1),, 0.0000, 0.0000,WGS 84
Reserved 1
Reserved 2
Magnetic Variation,,,E
Map Projection,Latitude/Longitude,PolyCal,Yes,AutoCalOnly,No,BSBUseWPX,No
Point01,xy, 82, 118,in, deg, 12, 0.0000,S, 39, 0.0000,W, grid, , , ,
Point02,xy, 2013, 135,in, deg, 12, 0.0000,S, 37, 30.0000,W, grid, , , ,
Point03,xy, 3943, 161,in, deg, 12, 0.0000,S, 36, 0.0000,W, grid, , , ,
Point04,xy, 78, 1426,in, deg, 13, 0.0000,S, 39, 0.0000,W, grid, , , ,
Point05,xy, 2004, 1442,in, deg, 13, 0.0000,S, 37, 30.0000,W, grid, , , ,
Point06,xy, 3924, 1466,in, deg, 13, 0.0000,S, 36, 0.0000,W, grid, , , ,
Point07,xy, 74, 2736,in, deg, 14, 0.0000,S, 39, 0.0000,W, grid, , , ,
Point08,xy, 1991, 2749,in, deg, 14, 0.0000,S, 37, 30.0000,W, grid, , , ,
Point09,xy, 3905, 2772,in, deg, 14, 0.0000,S, 36, 0.0000,W, grid, , , ,
Point10,xy, , ,in, deg, , ,, , ,, grid, , , ,
Point11,xy, , ,in, deg, , ,, , ,, grid, , , ,
Point12,xy, , ,in, deg, , ,, , ,, grid, , , ,
Point13,xy, , ,in, deg, , ,, , ,, grid, , , ,
Point14,xy, , ,in, deg, , ,, , ,, grid, , , ,
Point15,xy, , ,in, deg, , ,, , ,, grid, , , ,
Point16,xy, , ,in, deg, , ,, , ,, grid, , , ,
Point17,xy, , ,in, deg, , ,, , ,, grid, , , ,
Point18,xy, , ,in, deg, , ,, , ,, grid, , , ,
Point19,xy, , ,in, deg, , ,, , ,, grid, , , ,
Point20,xy, , ,in, deg, , ,, , ,, grid, , , ,
Point21,xy, , ,in, deg, , ,, , ,, grid, , , ,
Point22,xy, , ,in, deg, , ,, , ,, grid, , , ,
Point23,xy, , ,in, deg, , ,, , ,, grid, , , ,
Point24,xy, , ,in, deg, , ,, , ,, grid, , , ,
Point25,xy, , ,in, deg, , ,, , ,, grid, , , ,
Point26,xy, , ,in, deg, , ,, , ,, grid, , , ,
Point27,xy, , ,in, deg, , ,, , ,, grid, , , ,
Point28,xy, , ,in, deg, , ,, , ,, grid, , , ,
Point29,xy, , ,in, deg, , ,, , ,, grid, , , ,
Point30,xy, , ,in, deg, , ,, , ,, grid, , , ,
Projection Setup,,,,,,,,,,
Map Feature = MF ; Map Comment = MC These follow if they exist
Track File = TF These follow if they exist
Moving Map Parameters = MM? These follow if they exist
MM0,Yes
MMPNUM,4
MMPXY,1,0,0
MMPXY,2,4063,1
MMPXY,3,4016,3164
MMPXY,4,0,3127
MMPLL,1, -39.063448, -11.910247
MMPLL,2, -35.908019, -11.875809
MMPLL,3, -35.907996, -14.298827
MMPLL,4, -39.056615, -14.298891
MM1B,84.438034
MOP,Map Open Position,0,0
IWH,Map Image Width/Height,2500,1395
