OziExplorer Map Data File Version 2.2
D24A-Sikie.png
sd24-1.png
1 ,Map Code,
Pulkovo 1942 (1),, 0.0000, 0.0000,WGS 84
Reserved 1
Reserved 2
Magnetic Variation,,,E
Map Projection,Latitude/Longitude,PolyCal,Yes,AutoCalOnly,No,BSBUseWPX,No
Point01,xy, 77, 123,in, deg, 12, 0.0000,S, 42, 0.0000,W, grid, , , ,
Point02,xy, 2011, 127,in, deg, 12, 0.0000,S, 40, 30.0000,W, grid, , , ,
Point03,xy, 3941, 136,in, deg, 12, 0.0000,S, 39, 0.0000,W, grid, , , ,
Point04,xy, 81, 1430,in, deg, 13, 0.0000,S, 42, 0.0000,W, grid, , , ,
Point05,xy, 2008, 1431,in, deg, 13, 0.0000,S, 40, 30.0000,W, grid, , , ,
Point06,xy, 3931, 1441,in, deg, 13, 0.0000,S, 39, 0.0000,W, grid, , , ,
Point07,xy, 88, 2740,in, deg, 14, 0.0000,S, 42, 0.0000,W, grid, , , ,
Point08,xy, 2005, 2739,in, deg, 14, 0.0000,S, 40, 30.0000,W, grid, , , ,
Point09,xy, 3920, 2749,in, deg, 14, 0.0000,S, 39, 0.0000,W, grid, , , ,
Point10,xy, , ,in, deg, , ,, , ,, grid, , , ,
Point11,xy, , ,in, deg, , ,, , ,, grid, , , ,
Point12,xy, , ,in, deg, , ,, , ,, grid, , , ,
Point13,xy, , ,in, deg, , ,, , ,, grid, , , ,
Point14,xy, , ,in, deg, , ,, , ,, grid, , , ,
Point15,xy, , ,in, deg, , ,, , ,, grid, , , ,
Point16,xy, , ,in, deg, , ,, , ,, grid, , , ,
Point17,xy, , ,in, deg, , ,, , ,, grid, , , ,
Point18,xy, , ,in, deg, , ,, , ,, grid, , , ,
Point19,xy, , ,in, deg, , ,, , ,, grid, , , ,
Point20,xy, , ,in, deg, , ,, , ,, grid, , , ,
Point21,xy, , ,in, deg, , ,, , ,, grid, , , ,
Point22,xy, , ,in, deg, , ,, , ,, grid, , , ,
Point23,xy, , ,in, deg, , ,, , ,, grid, , , ,
Point24,xy, , ,in, deg, , ,, , ,, grid, , , ,
Point25,xy, , ,in, deg, , ,, , ,, grid, , , ,
Point26,xy, , ,in, deg, , ,, , ,, grid, , , ,
Point27,xy, , ,in, deg, , ,, , ,, grid, , , ,
Point28,xy, , ,in, deg, , ,, , ,, grid, , , ,
Point29,xy, , ,in, deg, , ,, , ,, grid, , , ,
Point30,xy, , ,in, deg, , ,, , ,, grid, , , ,
Projection Setup,,,,,,,,,,
Map Feature = MF ; Map Comment = MC These follow if they exist
Track File = TF These follow if they exist
Moving Map Parameters = MM? These follow if they exist
MM0,Yes
MMPNUM,4
MMPXY,1,0,0
MMPXY,2,4040,1
MMPXY,3,4013,3124
MMPXY,4,0,3115
MMPLL,1, -42.059132, -11.905228
MMPLL,2, -38.924317, -11.895339
MMPLL,3, -38.924849, -14.286152
MMPLL,4, -42.069771, -14.286050
MM1B,84.250149
MOP,Map Open Position,0,0
IWH,Map Image Width/Height,2500,1395
