OziExplorer Map Data File Version 2.2
D23r-RiuPadruDiMinas.png
sd23-4.png
1 ,Map Code,
Pulkovo 1942 (1),, 0.0000, 0.0000,WGS 84
Reserved 1
Reserved 2
Magnetic Variation,,,E
Map Projection,Latitude/Longitude,PolyCal,Yes,AutoCalOnly,No,BSBUseWPX,No
Point01,xy, 75, 116,in, deg, 14, 0.0000,S, 45, 0.0000,W, grid, , , ,
Point02,xy, 1988, 118,in, deg, 14, 0.0000,S, 43, 30.0000,W, grid, , , ,
Point03,xy, 3907, 131,in, deg, 14, 0.0000,S, 42, 0.0000,W, grid, , , ,
Point04,xy, 81, 1421,in, deg, 15, 0.0000,S, 45, 0.0000,W, grid, , , ,
Point05,xy, 1986, 1426,in, deg, 15, 0.0000,S, 43, 30.0000,W, grid, , , ,
Point06,xy, 3895, 1439,in, deg, 15, 0.0000,S, 42, 0.0000,W, grid, , , ,
Point07,xy, 84, 2726,in, deg, 16, 0.0000,S, 45, 0.0000,W, grid, , , ,
Point08,xy, 1981, 2729,in, deg, 16, 0.0000,S, 43, 30.0000,W, grid, , , ,
Point09,xy, 3881, 2744,in, deg, 16, 0.0000,S, 42, 0.0000,W, grid, , , ,
Point10,xy, , ,in, deg, , ,, , ,, grid, , , ,
Point11,xy, , ,in, deg, , ,, , ,, grid, , , ,
Point12,xy, , ,in, deg, , ,, , ,, grid, , , ,
Point13,xy, , ,in, deg, , ,, , ,, grid, , , ,
Point14,xy, , ,in, deg, , ,, , ,, grid, , , ,
Point15,xy, , ,in, deg, , ,, , ,, grid, , , ,
Point16,xy, , ,in, deg, , ,, , ,, grid, , , ,
Point17,xy, , ,in, deg, , ,, , ,, grid, , , ,
Point18,xy, , ,in, deg, , ,, , ,, grid, , , ,
Point19,xy, , ,in, deg, , ,, , ,, grid, , , ,
Point20,xy, , ,in, deg, , ,, , ,, grid, , , ,
Point21,xy, , ,in, deg, , ,, , ,, grid, , , ,
Point22,xy, , ,in, deg, , ,, , ,, grid, , , ,
Point23,xy, , ,in, deg, , ,, , ,, grid, , , ,
Point24,xy, , ,in, deg, , ,, , ,, grid, , , ,
Point25,xy, , ,in, deg, , ,, , ,, grid, , , ,
Point26,xy, , ,in, deg, , ,, , ,, grid, , , ,
Point27,xy, , ,in, deg, , ,, , ,, grid, , , ,
Point28,xy, , ,in, deg, , ,, , ,, grid, , , ,
Point29,xy, , ,in, deg, , ,, , ,, grid, , , ,
Point30,xy, , ,in, deg, , ,, , ,, grid, , , ,
Projection Setup,,,,,,,,,,
Map Feature = MF ; Map Comment = MC These follow if they exist
Track File = TF These follow if they exist
Moving Map Parameters = MM? These follow if they exist
MM0,Yes
MMPNUM,4
MMPXY,1,0,0
MMPXY,2,4018,0
MMPXY,3,3986,3115
MMPXY,4,1,3095
MMPLL,1, -45.058155, -13.911486
MMPLL,2, -41.913840, -13.899031
MMPLL,3, -41.913694, -16.283781
MMPLL,4, -45.066447, -16.283806
MM1B,84.735484
MOP,Map Open Position,0,0
IWH,Map Image Width/Height,2500,1395
