OziExplorer Map Data File Version 2.2
D23B-Brasilia.png
sd23-3.png
1 ,Map Code,
Pulkovo 1942 (1),, 0.0000, 0.0000,WGS 84
Reserved 1
Reserved 2
Magnetic Variation,,,E
Map Projection,Latitude/Longitude,PolyCal,Yes,AutoCalOnly,No,BSBUseWPX,No
Point01,xy, 77, 107,in, deg, 14, 0.0000,S, 48, 0.0000,W, grid, , , ,
Point02,xy, 1993, 106,in, deg, 14, 0.0000,S, 46, 30.0000,W, grid, , , ,
Point03,xy, 3909, 115,in, deg, 14, 0.0000,S, 45, 0.0000,W, grid, , , ,
Point04,xy, 90, 1416,in, deg, 15, 0.0000,S, 48, 0.0000,W, grid, , , ,
Point05,xy, 1993, 1413,in, deg, 15, 0.0000,S, 46, 30.0000,W, grid, , , ,
Point06,xy, 3902, 1418,in, deg, 15, 0.0000,S, 45, 0.0000,W, grid, , , ,
Point07,xy, 100, 2725,in, deg, 16, 0.0000,S, 48, 0.0000,W, grid, , , ,
Point08,xy, 1997, 2720,in, deg, 16, 0.0000,S, 46, 30.0000,W, grid, , , ,
Point09,xy, 3896, 2724,in, deg, 16, 0.0000,S, 45, 0.0000,W, grid, , , ,
Point10,xy, , ,in, deg, , ,, , ,, grid, , , ,
Point11,xy, , ,in, deg, , ,, , ,, grid, , , ,
Point12,xy, , ,in, deg, , ,, , ,, grid, , , ,
Point13,xy, , ,in, deg, , ,, , ,, grid, , , ,
Point14,xy, , ,in, deg, , ,, , ,, grid, , , ,
Point15,xy, , ,in, deg, , ,, , ,, grid, , , ,
Point16,xy, , ,in, deg, , ,, , ,, grid, , , ,
Point17,xy, , ,in, deg, , ,, , ,, grid, , , ,
Point18,xy, , ,in, deg, , ,, , ,, grid, , , ,
Point19,xy, , ,in, deg, , ,, , ,, grid, , , ,
Point20,xy, , ,in, deg, , ,, , ,, grid, , , ,
Point21,xy, , ,in, deg, , ,, , ,, grid, , , ,
Point22,xy, , ,in, deg, , ,, , ,, grid, , , ,
Point23,xy, , ,in, deg, , ,, , ,, grid, , , ,
Point24,xy, , ,in, deg, , ,, , ,, grid, , , ,
Point25,xy, , ,in, deg, , ,, , ,, grid, , , ,
Point26,xy, , ,in, deg, , ,, , ,, grid, , , ,
Point27,xy, , ,in, deg, , ,, , ,, grid, , , ,
Point28,xy, , ,in, deg, , ,, , ,, grid, , , ,
Point29,xy, , ,in, deg, , ,, , ,, grid, , , ,
Point30,xy, , ,in, deg, , ,, , ,, grid, , , ,
Projection Setup,,,,,,,,,,
Map Feature = MF ; Map Comment = MC These follow if they exist
Track File = TF These follow if they exist
Moving Map Parameters = MM? These follow if they exist
MM0,Yes
MMPNUM,4
MMPXY,1,0,0
MMPXY,2,3988,0
MMPXY,3,3972,3097
MMPXY,4,2,3100
MMPLL,1, -48.060280, -13.917973
MMPLL,2, -44.938850, -13.911688
MMPLL,3, -44.938422, -16.285611
MMPLL,4, -48.080771, -16.285582
MM1B,84.569246
MOP,Map Open Position,0,0
IWH,Map Image Width/Height,2500,1395
