OziExplorer Map Data File Version 2.2
D23-b-BonJevusDaLapa.png
sd23-2.png
1 ,Map Code,
Pulkovo 1942 (1),, 0.0000, 0.0000,WGS 84
Reserved 1
Reserved 2
Magnetic Variation,,,E
Map Projection,Latitude/Longitude,PolyCal,Yes,AutoCalOnly,No,BSBUseWPX,No
Point01,xy, 71, 108,in, deg, 12, 0.0000,S, 45, 0.0000,W, grid, , , ,
Point02,xy, 2002, 117,in, deg, 12, 0.0000,S, 43, 30.0000,W, grid, , , ,
Point03,xy, 3936, 126,in, deg, 12, 0.0000,S, 42, 0.0000,W, grid, , , ,
Point04,xy, 72, 1414,in, deg, 13, 0.0000,S, 45, 0.0000,W, grid, , , ,
Point05,xy, 1999, 1423,in, deg, 13, 0.0000,S, 43, 30.0000,W, grid, , , ,
Point06,xy, 3924, 1433,in, deg, 13, 0.0000,S, 42, 0.0000,W, grid, , , ,
Point07,xy, 76, 2720,in, deg, 14, 0.0000,S, 45, 0.0000,W, grid, , , ,
Point08,xy, 1993, 2727,in, deg, 14, 0.0000,S, 43, 30.0000,W, grid, , , ,
Point09,xy, 3911, 2742,in, deg, 14, 0.0000,S, 42, 0.0000,W, grid, , , ,
Point10,xy, , ,in, deg, , ,, , ,, grid, , , ,
Point11,xy, , ,in, deg, , ,, , ,, grid, , , ,
Point12,xy, , ,in, deg, , ,, , ,, grid, , , ,
Point13,xy, , ,in, deg, , ,, , ,, grid, , , ,
Point14,xy, , ,in, deg, , ,, , ,, grid, , , ,
Point15,xy, , ,in, deg, , ,, , ,, grid, , , ,
Point16,xy, , ,in, deg, , ,, , ,, grid, , , ,
Point17,xy, , ,in, deg, , ,, , ,, grid, , , ,
Point18,xy, , ,in, deg, , ,, , ,, grid, , , ,
Point19,xy, , ,in, deg, , ,, , ,, grid, , , ,
Point20,xy, , ,in, deg, , ,, , ,, grid, , , ,
Point21,xy, , ,in, deg, , ,, , ,, grid, , , ,
Point22,xy, , ,in, deg, , ,, , ,, grid, , , ,
Point23,xy, , ,in, deg, , ,, , ,, grid, , , ,
Point24,xy, , ,in, deg, , ,, , ,, grid, , , ,
Point25,xy, , ,in, deg, , ,, , ,, grid, , , ,
Point26,xy, , ,in, deg, , ,, , ,, grid, , , ,
Point27,xy, , ,in, deg, , ,, , ,, grid, , , ,
Point28,xy, , ,in, deg, , ,, , ,, grid, , , ,
Point29,xy, , ,in, deg, , ,, , ,, grid, , , ,
Point30,xy, , ,in, deg, , ,, , ,, grid, , , ,
Projection Setup,,,,,,,,,,
Map Feature = MF ; Map Comment = MC These follow if they exist
Track File = TF These follow if they exist
Moving Map Parameters = MM? These follow if they exist
MM0,Yes
MMPNUM,4
MMPXY,1,0,0
MMPXY,2,4012,0
MMPXY,3,3982,3109
MMPXY,4,0,3086
MMPLL,1, -45.054347, -11.916910
MMPLL,2, -41.941920, -11.903016
MMPLL,3, -41.941848, -14.281069
MMPLL,4, -45.059728, -14.281145
MM1B,84.510765
MOP,Map Open Position,0,0
IWH,Map Image Width/Height,2500,1395
