OziExplorer Map Data File Version 2.2
D23A-CampusBelus.png
sd23-1.png
1 ,Map Code,
Pulkovo 1942 (1),, 0.0000, 0.0000,WGS 84
Reserved 1
Reserved 2
Magnetic Variation,,,E
Map Projection,Latitude/Longitude,PolyCal,Yes,AutoCalOnly,No,BSBUseWPX,No
Point01,xy, 70, 108,in, deg, 12, 0.0000,S, 48, 0.0000,W, grid, , , ,
Point02,xy, 2002, 114,in, deg, 12, 0.0000,S, 46, 30.0000,W, grid, , , ,
Point03,xy, 3935, 116,in, deg, 12, 0.0000,S, 45, 0.0000,W, grid, , , ,
Point04,xy, 78, 1417,in, deg, 13, 0.0000,S, 48, 0.0000,W, grid, , , ,
Point05,xy, 2003, 1420,in, deg, 13, 0.0000,S, 46, 30.0000,W, grid, , , ,
Point06,xy, 3929, 1422,in, deg, 13, 0.0000,S, 45, 0.0000,W, grid, , , ,
Point07,xy, 83, 2724,in, deg, 14, 0.0000,S, 48, 0.0000,W, grid, , , ,
Point08,xy, 2004, 2722,in, deg, 14, 0.0000,S, 46, 30.0000,W, grid, , , ,
Point09,xy, 3921, 2728,in, deg, 14, 0.0000,S, 45, 0.0000,W, grid, , , ,
Point10,xy, , ,in, deg, , ,, , ,, grid, , , ,
Point11,xy, , ,in, deg, , ,, , ,, grid, , , ,
Point12,xy, , ,in, deg, , ,, , ,, grid, , , ,
Point13,xy, , ,in, deg, , ,, , ,, grid, , , ,
Point14,xy, , ,in, deg, , ,, , ,, grid, , , ,
Point15,xy, , ,in, deg, , ,, , ,, grid, , , ,
Point16,xy, , ,in, deg, , ,, , ,, grid, , , ,
Point17,xy, , ,in, deg, , ,, , ,, grid, , , ,
Point18,xy, , ,in, deg, , ,, , ,, grid, , , ,
Point19,xy, , ,in, deg, , ,, , ,, grid, , , ,
Point20,xy, , ,in, deg, , ,, , ,, grid, , , ,
Point21,xy, , ,in, deg, , ,, , ,, grid, , , ,
Point22,xy, , ,in, deg, , ,, , ,, grid, , , ,
Point23,xy, , ,in, deg, , ,, , ,, grid, , , ,
Point24,xy, , ,in, deg, , ,, , ,, grid, , , ,
Point25,xy, , ,in, deg, , ,, , ,, grid, , , ,
Point26,xy, , ,in, deg, , ,, , ,, grid, , , ,
Point27,xy, , ,in, deg, , ,, , ,, grid, , , ,
Point28,xy, , ,in, deg, , ,, , ,, grid, , , ,
Point29,xy, , ,in, deg, , ,, , ,, grid, , , ,
Point30,xy, , ,in, deg, , ,, , ,, grid, , , ,
Projection Setup,,,,,,,,,,
Map Feature = MF ; Map Comment = MC These follow if they exist
Track File = TF These follow if they exist
Moving Map Parameters = MM? These follow if they exist
MM0,Yes
MMPNUM,4
MMPXY,1,0,0
MMPXY,2,4009,1
MMPXY,3,3993,3088
MMPXY,4,1,3084
MMPLL,1, -48.053592, -11.916815
MMPLL,2, -44.942609, -11.911364
MMPLL,3, -44.942172, -14.277292
MMPLL,4, -48.065724, -14.276705
MM1B,84.367566
MOP,Map Open Position,0,0
IWH,Map Image Width/Height,2500,1395
