OziExplorer Map Data File Version 2.2
D22B-Aragarsas.png
sd22-3.png
1 ,Map Code,
Pulkovo 1942 (1),, 0.0000, 0.0000,WGS 84
Reserved 1
Reserved 2
Magnetic Variation,,,E
Map Projection,Latitude/Longitude,PolyCal,Yes,AutoCalOnly,No,BSBUseWPX,No
Point01,xy, 84, 134,in, deg, 14, 0.0000,S, 54, 0.0000,W, grid, , , ,
Point02,xy, 2001, 131,in, deg, 14, 0.0000,S, 52, 30.0000,W, grid, , , ,
Point03,xy, 3920, 136,in, deg, 14, 0.0000,S, 51, 0.0000,W, grid, , , ,
Point04,xy, 101, 1438,in, deg, 15, 0.0000,S, 54, 0.0000,W, grid, , , ,
Point05,xy, 2009, 1432,in, deg, 15, 0.0000,S, 52, 30.0000,W, grid, , , ,
Point06,xy, 3916, 1439,in, deg, 15, 0.0000,S, 51, 0.0000,W, grid, , , ,
Point07,xy, 114, 2745,in, deg, 16, 0.0000,S, 54, 0.0000,W, grid, , , ,
Point08,xy, 2013, 2740,in, deg, 16, 0.0000,S, 52, 30.0000,W, grid, , , ,
Point09,xy, 3912, 2741,in, deg, 16, 0.0000,S, 51, 0.0000,W, grid, , , ,
Point10,xy, , ,in, deg, , ,, , ,, grid, , , ,
Point11,xy, , ,in, deg, , ,, , ,, grid, , , ,
Point12,xy, , ,in, deg, , ,, , ,, grid, , , ,
Point13,xy, , ,in, deg, , ,, , ,, grid, , , ,
Point14,xy, , ,in, deg, , ,, , ,, grid, , , ,
Point15,xy, , ,in, deg, , ,, , ,, grid, , , ,
Point16,xy, , ,in, deg, , ,, , ,, grid, , , ,
Point17,xy, , ,in, deg, , ,, , ,, grid, , , ,
Point18,xy, , ,in, deg, , ,, , ,, grid, , , ,
Point19,xy, , ,in, deg, , ,, , ,, grid, , , ,
Point20,xy, , ,in, deg, , ,, , ,, grid, , , ,
Point21,xy, , ,in, deg, , ,, , ,, grid, , , ,
Point22,xy, , ,in, deg, , ,, , ,, grid, , , ,
Point23,xy, , ,in, deg, , ,, , ,, grid, , , ,
Point24,xy, , ,in, deg, , ,, , ,, grid, , , ,
Point25,xy, , ,in, deg, , ,, , ,, grid, , , ,
Point26,xy, , ,in, deg, , ,, , ,, grid, , , ,
Point27,xy, , ,in, deg, , ,, , ,, grid, , , ,
Point28,xy, , ,in, deg, , ,, , ,, grid, , , ,
Point29,xy, , ,in, deg, , ,, , ,, grid, , , ,
Point30,xy, , ,in, deg, , ,, , ,, grid, , , ,
Projection Setup,,,,,,,,,,
Map Feature = MF ; Map Comment = MC These follow if they exist
Track File = TF These follow if they exist
Moving Map Parameters = MM? These follow if they exist
MM0,Yes
MMPNUM,4
MMPXY,1,0,0
MMPXY,2,4006,1
MMPXY,3,3995,3097
MMPXY,4,1,3102
MMPLL,1, -54.064279, -13.896996
MMPLL,2, -50.932384, -13.895359
MMPLL,3, -50.932656, -16.271690
MMPLL,4, -54.092331, -16.272051
MM1B,84.374053
MOP,Map Open Position,0,0
IWH,Map Image Width/Height,2500,1395
