OziExplorer Map Data File Version 2.2
D22-b-Poragatu.png
sd22-2.png
1 ,Map Code,
Pulkovo 1942 (1),, 0.0000, 0.0000,WGS 84
Reserved 1
Reserved 2
Magnetic Variation,,,E
Map Projection,Latitude/Longitude,PolyCal,Yes,AutoCalOnly,No,BSBUseWPX,No
Point01,xy, 84, 105,in, deg, 12, 0.0000,S, 51, 0.0000,W, grid, , , ,
Point02,xy, 2017, 115,in, deg, 12, 0.0000,S, 49, 30.0000,W, grid, , , ,
Point03,xy, 3948, 125,in, deg, 12, 0.0000,S, 48, 0.0000,W, grid, , , ,
Point04,xy, 91, 1411,in, deg, 13, 0.0000,S, 51, 0.0000,W, grid, , , ,
Point05,xy, 2016, 1420,in, deg, 13, 0.0000,S, 49, 30.0000,W, grid, , , ,
Point06,xy, 3938, 1429,in, deg, 13, 0.0000,S, 48, 0.0000,W, grid, , , ,
Point07,xy, 97, 2718,in, deg, 14, 0.0000,S, 51, 0.0000,W, grid, , , ,
Point08,xy, 2013, 2725,in, deg, 14, 0.0000,S, 49, 30.0000,W, grid, , , ,
Point09,xy, 3929, 2737,in, deg, 14, 0.0000,S, 48, 0.0000,W, grid, , , ,
Point10,xy, , ,in, deg, , ,, , ,, grid, , , ,
Point11,xy, , ,in, deg, , ,, , ,, grid, , , ,
Point12,xy, , ,in, deg, , ,, , ,, grid, , , ,
Point13,xy, , ,in, deg, , ,, , ,, grid, , , ,
Point14,xy, , ,in, deg, , ,, , ,, grid, , , ,
Point15,xy, , ,in, deg, , ,, , ,, grid, , , ,
Point16,xy, , ,in, deg, , ,, , ,, grid, , , ,
Point17,xy, , ,in, deg, , ,, , ,, grid, , , ,
Point18,xy, , ,in, deg, , ,, , ,, grid, , , ,
Point19,xy, , ,in, deg, , ,, , ,, grid, , , ,
Point20,xy, , ,in, deg, , ,, , ,, grid, , , ,
Point21,xy, , ,in, deg, , ,, , ,, grid, , , ,
Point22,xy, , ,in, deg, , ,, , ,, grid, , , ,
Point23,xy, , ,in, deg, , ,, , ,, grid, , , ,
Point24,xy, , ,in, deg, , ,, , ,, grid, , , ,
Point25,xy, , ,in, deg, , ,, , ,, grid, , , ,
Point26,xy, , ,in, deg, , ,, , ,, grid, , , ,
Point27,xy, , ,in, deg, , ,, , ,, grid, , , ,
Point28,xy, , ,in, deg, , ,, , ,, grid, , , ,
Point29,xy, , ,in, deg, , ,, , ,, grid, , , ,
Point30,xy, , ,in, deg, , ,, , ,, grid, , , ,
Projection Setup,,,,,,,,,,
Map Feature = MF ; Map Comment = MC These follow if they exist
Track File = TF These follow if they exist
Moving Map Parameters = MM? These follow if they exist
MM0,Yes
MMPNUM,4
MMPXY,1,0,0
MMPXY,2,4030,0
MMPXY,3,4006,3105
MMPXY,4,0,3086
MMPLL,1, -51.064877, -11.919363
MMPLL,2, -47.936884, -11.903737
MMPLL,3, -47.936935, -14.281723
MMPLL,4, -51.077111, -14.281876
MM1B,84.453172
MOP,Map Open Position,0,0
IWH,Map Image Width/Height,2500,1395
