OziExplorer Map Data File Version 2.2
D22A-Tanguru.png
sd22-1.png
1 ,Map Code,
Pulkovo 1942 (1),, 0.0000, 0.0000,WGS 84
Reserved 1
Reserved 2
Magnetic Variation,,,E
Map Projection,Latitude/Longitude,PolyCal,Yes,AutoCalOnly,No,BSBUseWPX,No
Point01,xy, 73, 131,in, deg, 12, 0.0000,S, 54, 0.0000,W, grid, , , ,
Point02,xy, 2007, 127,in, deg, 12, 0.0000,S, 52, 30.0000,W, grid, , , ,
Point03,xy, 3934, 126,in, deg, 12, 0.0000,S, 51, 0.0000,W, grid, , , ,
Point04,xy, 92, 1437,in, deg, 13, 0.0000,S, 54, 0.0000,W, grid, , , ,
Point05,xy, 2014, 1430,in, deg, 13, 0.0000,S, 52, 30.0000,W, grid, , , ,
Point06,xy, 3935, 1430,in, deg, 13, 0.0000,S, 51, 0.0000,W, grid, , , ,
Point07,xy, 107, 2744,in, deg, 14, 0.0000,S, 54, 0.0000,W, grid, , , ,
Point08,xy, 2019, 2735,in, deg, 14, 0.0000,S, 52, 30.0000,W, grid, , , ,
Point09,xy, 3933, 2733,in, deg, 14, 0.0000,S, 51, 0.0000,W, grid, , , ,
Point10,xy, , ,in, deg, , ,, , ,, grid, , , ,
Point11,xy, , ,in, deg, , ,, , ,, grid, , , ,
Point12,xy, , ,in, deg, , ,, , ,, grid, , , ,
Point13,xy, , ,in, deg, , ,, , ,, grid, , , ,
Point14,xy, , ,in, deg, , ,, , ,, grid, , , ,
Point15,xy, , ,in, deg, , ,, , ,, grid, , , ,
Point16,xy, , ,in, deg, , ,, , ,, grid, , , ,
Point17,xy, , ,in, deg, , ,, , ,, grid, , , ,
Point18,xy, , ,in, deg, , ,, , ,, grid, , , ,
Point19,xy, , ,in, deg, , ,, , ,, grid, , , ,
Point20,xy, , ,in, deg, , ,, , ,, grid, , , ,
Point21,xy, , ,in, deg, , ,, , ,, grid, , , ,
Point22,xy, , ,in, deg, , ,, , ,, grid, , , ,
Point23,xy, , ,in, deg, , ,, , ,, grid, , , ,
Point24,xy, , ,in, deg, , ,, , ,, grid, , , ,
Point25,xy, , ,in, deg, , ,, , ,, grid, , , ,
Point26,xy, , ,in, deg, , ,, , ,, grid, , , ,
Point27,xy, , ,in, deg, , ,, , ,, grid, , , ,
Point28,xy, , ,in, deg, , ,, , ,, grid, , , ,
Point29,xy, , ,in, deg, , ,, , ,, grid, , , ,
Point30,xy, , ,in, deg, , ,, , ,, grid, , , ,
Projection Setup,,,,,,,,,,
Map Feature = MF ; Map Comment = MC These follow if they exist
Track File = TF These follow if they exist
Moving Map Parameters = MM? These follow if they exist
MM0,Yes
MMPNUM,4
MMPXY,1,0,1
MMPXY,2,4017,0
MMPXY,3,4013,3094
MMPXY,4,0,3107
MMPLL,1, -54.055844, -11.899979
MMPLL,2, -50.935906, -11.902673
MMPLL,3, -50.935517, -14.276898
MMPLL,4, -54.086256, -14.277539
MM1B,84.383598
MOP,Map Open Position,0,0
IWH,Map Image Width/Height,2500,1395
