OziExplorer Map Data File Version 2.2
D21r-Kuaiba.png
sd21-4.png
1 ,Map Code,
Pulkovo 1942 (1),, 0.0000, 0.0000,WGS 84
Reserved 1
Reserved 2
Magnetic Variation,,,E
Map Projection,Latitude/Longitude,PolyCal,Yes,AutoCalOnly,No,BSBUseWPX,No
Point01,xy, 90, 160,in, deg, 14, 0.0000,S, 57, 0.0000,W, grid, , , ,
Point02,xy, 2007, 180,in, deg, 14, 0.0000,S, 55, 30.0000,W, grid, , , ,
Point03,xy, 3922, 199,in, deg, 14, 0.0000,S, 54, 0.0000,W, grid, , , ,
Point04,xy, 87, 1469,in, deg, 15, 0.0000,S, 57, 0.0000,W, grid, , , ,
Point05,xy, 1997, 1489,in, deg, 15, 0.0000,S, 55, 30.0000,W, grid, , , ,
Point06,xy, 3905, 1508,in, deg, 15, 0.0000,S, 54, 0.0000,W, grid, , , ,
Point07,xy, 82, 2777,in, deg, 16, 0.0000,S, 57, 0.0000,W, grid, , , ,
Point08,xy, 1981, 2793,in, deg, 16, 0.0000,S, 55, 30.0000,W, grid, , , ,
Point09,xy, 3886, 2816,in, deg, 16, 0.0000,S, 54, 0.0000,W, grid, , , ,
Point10,xy, , ,in, deg, , ,, , ,, grid, , , ,
Point11,xy, , ,in, deg, , ,, , ,, grid, , , ,
Point12,xy, , ,in, deg, , ,, , ,, grid, , , ,
Point13,xy, , ,in, deg, , ,, , ,, grid, , , ,
Point14,xy, , ,in, deg, , ,, , ,, grid, , , ,
Point15,xy, , ,in, deg, , ,, , ,, grid, , , ,
Point16,xy, , ,in, deg, , ,, , ,, grid, , , ,
Point17,xy, , ,in, deg, , ,, , ,, grid, , , ,
Point18,xy, , ,in, deg, , ,, , ,, grid, , , ,
Point19,xy, , ,in, deg, , ,, , ,, grid, , , ,
Point20,xy, , ,in, deg, , ,, , ,, grid, , , ,
Point21,xy, , ,in, deg, , ,, , ,, grid, , , ,
Point22,xy, , ,in, deg, , ,, , ,, grid, , , ,
Point23,xy, , ,in, deg, , ,, , ,, grid, , , ,
Point24,xy, , ,in, deg, , ,, , ,, grid, , , ,
Point25,xy, , ,in, deg, , ,, , ,, grid, , , ,
Point26,xy, , ,in, deg, , ,, , ,, grid, , , ,
Point27,xy, , ,in, deg, , ,, , ,, grid, , , ,
Point28,xy, , ,in, deg, , ,, , ,, grid, , , ,
Point29,xy, , ,in, deg, , ,, , ,, grid, , , ,
Point30,xy, , ,in, deg, , ,, , ,, grid, , , ,
Projection Setup,,,,,,,,,,
Map Feature = MF ; Map Comment = MC These follow if they exist
Track File = TF These follow if they exist
Moving Map Parameters = MM? These follow if they exist
MM0,Yes
MMPNUM,4
MMPXY,1,0,0
MMPXY,2,4044,1
MMPXY,3,3996,3209
MMPXY,4,0,3168
MMPLL,1, -57.070909, -13.878194
MMPLL,2, -53.906722, -13.847549
MMPLL,3, -53.907141, -16.300790
MMPLL,4, -57.062042, -16.300828
MM1B,84.580854
MOP,Map Open Position,0,0
IWH,Map Image Width/Height,2500,1395
