OziExplorer Map Data File Version 2.2
D21B-MatuGrosso.png
sd21-3.png
1 ,Map Code,
Pulkovo 1942 (1),, 0.0000, 0.0000,WGS 84
Reserved 1
Reserved 2
Magnetic Variation,,,E
Map Projection,Latitude/Longitude,PolyCal,Yes,AutoCalOnly,No,BSBUseWPX,No
Point01,xy, 97, 122,in, deg, 14, 0.0000,S, 60, 0.0000,W, grid, , , ,
Point02,xy, 2010, 141,in, deg, 14, 0.0000,S, 58, 30.0000,W, grid, , , ,
Point03,xy, 3926, 165,in, deg, 14, 0.0000,S, 57, 0.0000,W, grid, , , ,
Point04,xy, 97, 1427,in, deg, 15, 0.0000,S, 60, 0.0000,W, grid, , , ,
Point05,xy, 2003, 1447,in, deg, 15, 0.0000,S, 58, 30.0000,W, grid, , , ,
Point06,xy, 3909, 1469,in, deg, 15, 0.0000,S, 57, 0.0000,W, grid, , , ,
Point07,xy, 92, 2738,in, deg, 16, 0.0000,S, 60, 0.0000,W, grid, , , ,
Point08,xy, 1993, 2752,in, deg, 16, 0.0000,S, 58, 30.0000,W, grid, , , ,
Point09,xy, 3892, 2772,in, deg, 16, 0.0000,S, 57, 0.0000,W, grid, , , ,
Point10,xy, , ,in, deg, , ,, , ,, grid, , , ,
Point11,xy, , ,in, deg, , ,, , ,, grid, , , ,
Point12,xy, , ,in, deg, , ,, , ,, grid, , , ,
Point13,xy, , ,in, deg, , ,, , ,, grid, , , ,
Point14,xy, , ,in, deg, , ,, , ,, grid, , , ,
Point15,xy, , ,in, deg, , ,, , ,, grid, , , ,
Point16,xy, , ,in, deg, , ,, , ,, grid, , , ,
Point17,xy, , ,in, deg, , ,, , ,, grid, , , ,
Point18,xy, , ,in, deg, , ,, , ,, grid, , , ,
Point19,xy, , ,in, deg, , ,, , ,, grid, , , ,
Point20,xy, , ,in, deg, , ,, , ,, grid, , , ,
Point21,xy, , ,in, deg, , ,, , ,, grid, , , ,
Point22,xy, , ,in, deg, , ,, , ,, grid, , , ,
Point23,xy, , ,in, deg, , ,, , ,, grid, , , ,
Point24,xy, , ,in, deg, , ,, , ,, grid, , , ,
Point25,xy, , ,in, deg, , ,, , ,, grid, , , ,
Point26,xy, , ,in, deg, , ,, , ,, grid, , , ,
Point27,xy, , ,in, deg, , ,, , ,, grid, , , ,
Point28,xy, , ,in, deg, , ,, , ,, grid, , , ,
Point29,xy, , ,in, deg, , ,, , ,, grid, , , ,
Point30,xy, , ,in, deg, , ,, , ,, grid, , , ,
Projection Setup,,,,,,,,,,
Map Feature = MF ; Map Comment = MC These follow if they exist
Track File = TF These follow if they exist
Moving Map Parameters = MM? These follow if they exist
MM0,Yes
MMPNUM,4
MMPXY,1,0,0
MMPXY,2,4035,1
MMPXY,3,3994,3149
MMPXY,4,0,3113
MMPLL,1, -60.075930, -13.907845
MMPLL,2, -56.915335, -13.872514
MMPLL,3, -56.914895, -16.287738
MMPLL,4, -60.072210, -16.287499
MM1B,84.549983
MOP,Map Open Position,0,0
IWH,Map Image Width/Height,2500,1395
