OziExplorer Map Data File Version 2.2
D21-b-PortuAturUtiariti.png
sd21-2.png
1 ,Map Code,
Pulkovo 1942 (1),, 0.0000, 0.0000,WGS 84
Reserved 1
Reserved 2
Magnetic Variation,,,E
Map Projection,Latitude/Longitude,PolyCal,Yes,AutoCalOnly,No,BSBUseWPX,No
Point01,xy, 87, 113,in, deg, 12, 0.0000,S, 57, 0.0000,W, grid, , , ,
Point02,xy, 2016, 117,in, deg, 12, 0.0000,S, 55, 30.0000,W, grid, , , ,
Point03,xy, 3945, 126,in, deg, 12, 0.0000,S, 54, 0.0000,W, grid, , , ,
Point04,xy, 93, 1422,in, deg, 13, 0.0000,S, 57, 0.0000,W, grid, , , ,
Point05,xy, 2018, 1426,in, deg, 13, 0.0000,S, 55, 30.0000,W, grid, , , ,
Point06,xy, 3938, 1434,in, deg, 13, 0.0000,S, 54, 0.0000,W, grid, , , ,
Point07,xy, 99, 2732,in, deg, 14, 0.0000,S, 57, 0.0000,W, grid, , , ,
Point08,xy, 2017, 2732,in, deg, 14, 0.0000,S, 55, 30.0000,W, grid, , , ,
Point09,xy, 3930, 2742,in, deg, 14, 0.0000,S, 54, 0.0000,W, grid, , , ,
Point10,xy, , ,in, deg, , ,, , ,, grid, , , ,
Point11,xy, , ,in, deg, , ,, , ,, grid, , , ,
Point12,xy, , ,in, deg, , ,, , ,, grid, , , ,
Point13,xy, , ,in, deg, , ,, , ,, grid, , , ,
Point14,xy, , ,in, deg, , ,, , ,, grid, , , ,
Point15,xy, , ,in, deg, , ,, , ,, grid, , , ,
Point16,xy, , ,in, deg, , ,, , ,, grid, , , ,
Point17,xy, , ,in, deg, , ,, , ,, grid, , , ,
Point18,xy, , ,in, deg, , ,, , ,, grid, , , ,
Point19,xy, , ,in, deg, , ,, , ,, grid, , , ,
Point20,xy, , ,in, deg, , ,, , ,, grid, , , ,
Point21,xy, , ,in, deg, , ,, , ,, grid, , , ,
Point22,xy, , ,in, deg, , ,, , ,, grid, , , ,
Point23,xy, , ,in, deg, , ,, , ,, grid, , , ,
Point24,xy, , ,in, deg, , ,, , ,, grid, , , ,
Point25,xy, , ,in, deg, , ,, , ,, grid, , , ,
Point26,xy, , ,in, deg, , ,, , ,, grid, , , ,
Point27,xy, , ,in, deg, , ,, , ,, grid, , , ,
Point28,xy, , ,in, deg, , ,, , ,, grid, , , ,
Point29,xy, , ,in, deg, , ,, , ,, grid, , , ,
Point30,xy, , ,in, deg, , ,, , ,, grid, , , ,
Projection Setup,,,,,,,,,,
Map Feature = MF ; Map Comment = MC These follow if they exist
Track File = TF These follow if they exist
Moving Map Parameters = MM? These follow if they exist
MM0,Yes
MMPNUM,4
MMPXY,1,0,0
MMPXY,2,4028,0
MMPXY,3,4010,3098
MMPXY,4,0,3088
MMPLL,1, -57.066490, -11.913626
MMPLL,2, -53.935431, -11.903025
MMPLL,3, -53.935628, -14.272447
MMPLL,4, -57.078656, -14.272569
MM1B,84.503645
MOP,Map Open Position,0,0
IWH,Map Image Width/Height,2500,1395
